BEGIN:VCALENDAR
VERSION:2.0
PRODID:-//Cedeso//NONSGML kigkonsult.se iCalcreator 2.30.10//
CALSCALE:GREGORIAN
METHOD:PUBLISH
UID:a909e417-03c6-47c9-8945-517dc0dd3b58
X-WR-CALNAME:iCagenda
X-WR-CALDESC:Event Management Extension for Joomla!
X-WR-RELCALID:3E26604A-50F4-4449-8B3E-E4F4932D05B5
X-WR-TIMEZONE:America/Costa_Rica
BEGIN:VTIMEZONE
TZID:America/Costa_Rica
BEGIN:STANDARD
TZNAME:CST
DTSTART:20190521T060000
TZOFFSETFROM:+0000
TZOFFSETTO:-0600
END:STANDARD
END:VTIMEZONE
BEGIN:VEVENT
UID:76c1303e-c006-421d-9555-f062829bcf06
DTSTAMP:20260419T205121Z
CATEGORIES:Mejores Prácticas Organizacionales
CLASS:PUBLIC
DESCRIPTION;ALTREP="CID:<FFFF__=0ABBE548DFE235B58f9e8a93d@coffeebean.com>":
 Taller:\nFidelización del talento mediante el salario emocional\nEl arte d
 e conquistar\, retener y recompensar el talento en función de los objetivo
 s empresariales\nDirigido a: Encargados de Recursos Humanos\, gerentes\, c
 oordinadores\, emprendedores y demás profesionales en puesto de jefatura o
  que tengan a su cargo el desarrollo del talento humano.\nObjetivo general
 :Al finalizar este taller el participante estará en condiciones de: • Comp
 render los fundamentos del salario emocional\, así como la importancia de 
 su implementación para retener el talento humano. • Conocer experiencias e
 xitosas de empresas grandes y pequeñas que han implementado el salario emo
 cional como estrategia para retener el talento y disminuir los índices de 
 rotación. • Diseñar estrategias para incorporar en su paquete de beneficio
 s empresariales\, evaluando su viabilidad en el contexto actual.\nContenid
 os: • Felicidad y percepción subjetiva de bienestar. • ¿Qué es el salario 
 emocional? • ¿Por qué es importante su aplicación para la retención del ta
 lento? • Componentes del salario emocional. • Aprendiendo de la experienci
 a: Buenas prácticas en la implementación del salario emocional. • Identifi
 cando motivadores según los diferentes grupos de población (brechas genera
 cionales). • Impacto de un alto salario emocional en la rentabilidad de la
  empresa. • Evaluación y control de riesgos. • Diseño de un plan de acción
  para aumentar el salario emocional de sus colaboradores.\nFecha: 19 de fe
 brero del 2021.Horario: 8:00 a.m. a 5:00 p.m.Duración: 8 horas.Plataforma:
  Zoom.Inversión: ¢80.000 + 2% de IVA por participante.Incluye: Material y 
 certificado de participación en PDF.\nFacilitadora: Licda. Gina Sequeira\,
  Psicóloga\, certificada en Business Coaching\, con posgrado de Gamificaci
 ón y Técnicas de Ludificación. Estudios de posgrado en Evaluación y Gerenc
 ia de Proyectos. Socia Fundadora de Skills Lab. Más de 5 años de experienc
 ia en el diseño de procesos de capacitación vinculados al desarrollo de ha
 bilidades blandas y el fortalecimiento de equipos de alto desempeño. Confe
 rencista nacional e internacional.\nTodas nuestras capacitaciones pueden s
 er impartidas en su organización.\nInscripciones e Información al e-mail i
 nfo@cedeso.co.crTel: (506) 2225-1007 Fax: (506) 2253-2774Visite nuestra pá
 gina www.cedeso.co.crfacebook.com/cedesocostarica\n 
DTSTART:20210219T140000Z
DTEND:20210219T230000Z
GEO:00;0
LOCATION:Virtual por Zoom.
ORGANIZER;CN=:info@cedeso.co.cr
SEQUENCE:1
SUMMARY:Fidelización del talento mediante el salario emocional
TRANSP:OPAQUE
URL:https://cedeso.co.cr/eventos-anteriores/362-fidelizaci%C3%B3n-del-talen
 to-mediante-el-salario-emocional
END:VEVENT
END:VCALENDAR
