BEGIN:VCALENDAR
VERSION:2.0
PRODID:-//Cedeso//NONSGML kigkonsult.se iCalcreator 2.30.10//
CALSCALE:GREGORIAN
METHOD:PUBLISH
UID:01b44215-0ab2-4d9f-a6ff-c95e25da79b0
X-WR-CALNAME:iCagenda
X-WR-CALDESC:Event Management Extension for Joomla!
X-WR-RELCALID:3E26604A-50F4-4449-8B3E-E4F4932D05B5
X-WR-TIMEZONE:America/Costa_Rica
BEGIN:VTIMEZONE
TZID:America/Costa_Rica
BEGIN:STANDARD
TZNAME:CST
DTSTART:20190511T060000
TZOFFSETFROM:+0000
TZOFFSETTO:-0600
END:STANDARD
END:VTIMEZONE
BEGIN:VEVENT
UID:d954ab79-0afd-41cb-9aa7-95137aaffb95
DTSTAMP:20260419T202614Z
CATEGORIES:Mejores Prácticas Organizacionales
CLASS:PUBLIC
DESCRIPTION;ALTREP="CID:<FFFF__=0ABBE548DFE235B58f9e8a93d@coffeebean.com>":
 Programa de Herramientas de Retroalimentación para Managers\n \nUn program
 a urgente para gerencias\, managers\, líderes\, jefaturas en la “nueva nor
 malidad”\n 3 talleres de cuatro horas cada uno\n Curse el programa complet
 o o solo aquellas sesiones de su interés\n \n \nObjetivo general del progr
 ama: Las y los participantes serán capaces de explicar1\, aplicar2 y aprec
 iar3 herramientas para dar estructura\, comunicar con claridad y operar ap
 reciativamente\, de modo que sus colaboradores desarrollen compromiso\, cl
 aridad y motivación hacia el mejoramiento del desempeño.\n \n\n Como dar u
 n buen Feedback! \n\n\nEl ciclo del desempeño (Alinear\, acompañar\, evalu
 ar y retroalimentar.La ciencia y arte de dar una retroalimentación que fun
 cione. Manejo de casos especiales: retroalimentar a top performers\, fijar
  límites\, …\nModos directivos y guiones para manejo de los 4 tipos de col
 aborador.\nNeurociencia\, comunicación y SEP: mejores prácticas y comporta
 mientos asociados con un feedback exitoso.\nFeedback Serious Play©: 11 est
 rategias esenciales para poner en acción por cada participante.\n\n \nFech
 a: 9 y 11 de febrero 2021.\nHorario: 2:00 p.m. a 4:00 p.m.\nDuración: 4 ho
 ras.\nPlataforma: Zoom.\nInversión: ¢40.000 + 2% de IVA por participante.
 \nIncluye: Material didáctico y certificado de participación en PDF.\n \n 
 2. Coaching del Desempeño\n\nCuatro estrategias básicas de performance coa
 ching.\nIntervenciones específicas para fortalecer la internalidad y la au
 to eficacia de los colaboradores.\nLa estrategia para volver las debilidad
 es irrelevantes: las cuatro estrategias del coaching basado en fortalezas.
 \nCampo de prácticas: modelos PRACTICE1\, “Escenario de reemplazo”2 e Inda
 gación Motivacional3.\n\n \nFecha: 16 y 18 de febrero 2021.\nHorario: 2:00
  p.m. a 4:00 p.m.\nDuración: 4 horas.\nPlataforma: Zoom.\nInversión: ¢40.0
 00 + 2% de IVA por participante.\nIncluye: Material didáctico y certificad
 o de participación en PDF.\n \n\n Retroalimentación positiva\n\n\n¿Cómo da
 r una retroalimentación positiva y superar el “bloqueo comunicativo”?\nVen
 tajas de la retroalimentación basada en fortalezas: la “Regla 3 a 1” del m
 ejormiento basado en fortalezas con respecto al mejoramiento enfocado en c
 orregir debilidades.\nCombate al sesgo negativo y estrategias para el desa
 rrollo de fortalezas.\nModelo PEA\, neurociencia y feedback positivo: apli
 car la “entrevista apreciativa” para definir el “ADN del éxito”.\nEntrenam
 iento en el patrón de comportamientos para dar una retroalimentación posit
 iva (feedback apreciativo).\n\n \nFecha: 23 y 25 de febrero 2021.\nHorario
 : 2:00 p.m. a 4:00 p.m.\nDuración: 4 horas.\nPlataforma: Zoom.\nInversión:
  ¢40.000 + 2% de IVA por participante.\nIncluye: Material didáctico y cert
 ificado de participación en PDF.\n \nFacilitador: Dr. Enrique Margery\n\nD
 octor en Educación y TEDx speaker.\nProfesor de la Maestría en Psicología 
 del Trabajo en la Universidad de Costa Rica. Profesor invitado de la Unive
 rsidad de Querétaro (UAQ\, México) y la Universidad UAGM (Puerto Rico).\nD
 iseña capacitación para desarrollo de soft skills basado en aprendizaje po
 r la experiencia\, GBL y “reto-aprendizaje”.\nCoach especialista en cienci
 a de la colaboración y manejo de top performers.\nDiseña herramientas para
  medir el Sentido de Urgencia\, el “termómetro de la colaboración” y la re
 ntabilidad de la capacitación\, entre otros.\nAutor de los libros “Complej
 idad y Competencias”\, “Herramientas de Coaching”\, “El Viaje” (Editorial 
 Norma\; uno de los primeros libros de psicología positiva publicados) y 'C
 omplejidad\, Transdisciplinariedad y Compentencias'\n\n \nTodas nuestras c
 apacitaciones pueden ser impartidas en su organización\n \nInscripciones e
  Información al e-mail info@cedeso.co.cr\nTel: (506) 2225-1007 · Fax: (506
 ) 2253-2774\nVisite nuestra página www.cedeso.co.cr\nfacebook.com/cedesoco
 starica
DTSTART:20210209T200000Z
DTEND:20210225T220000Z
GEO:00;0
LOCATION:Virtual por Zoom
ORGANIZER;CN=:info@cedeso.co.cr
SEQUENCE:1
SUMMARY:Programa de Herramientas de Retroalimentación para Managers
TRANSP:OPAQUE
URL:https://cedeso.co.cr/eventos-anteriores/363-programa-de-herramientas-de
 -retroalimentaci%C3%B3n-para-managers
END:VEVENT
END:VCALENDAR
