BEGIN:VCALENDAR
VERSION:2.0
PRODID:-//Cedeso//NONSGML kigkonsult.se iCalcreator 2.30.10//
CALSCALE:GREGORIAN
METHOD:PUBLISH
UID:69361e5a-f5b3-4a74-8967-e48f07681b6f
X-WR-CALNAME:iCagenda
X-WR-CALDESC:Event Management Extension for Joomla!
X-WR-RELCALID:3E26604A-50F4-4449-8B3E-E4F4932D05B5
X-WR-TIMEZONE:America/Costa_Rica
BEGIN:VTIMEZONE
TZID:America/Costa_Rica
BEGIN:STANDARD
TZNAME:CST
DTSTART:20190525T060000
TZOFFSETFROM:+0000
TZOFFSETTO:-0600
END:STANDARD
END:VTIMEZONE
BEGIN:VEVENT
UID:79b821d8-648c-4bc4-91e8-6b13080eaa86
DTSTAMP:20260419T202842Z
CATEGORIES:Gestión del Talento
CLASS:PUBLIC
DESCRIPTION;ALTREP="CID:<FFFF__=0ABBE548DFE235B58f9e8a93d@coffeebean.com>":
 Taller:\nDetección de necesidades de formación (DNF)\nObjetivo general: Có
 mo detectar las necesidades de la organización susceptibles de resolverse 
 mediante la formación.\nContenidos:1. Concepto y alcances de la DNF.2. El 
 plan para concretar la investigación: métodos.3. La ejecución del plan: pa
 so a paso.4. El plan de capacitación: análisis de requerimientos\, estable
 cimiento de las prioridades\, el plan de formación.\nEntregables: Formatos
  de DNF.\nFecha: 23 y 25 de febrero del 2021.Horario: 8:30 a.m. a 11:00 a.
 m.Duración total: 5 horas.Metodología: Virtual por plataforma ZoomInversió
 n: ¢50.000 + 2% de IVA por participante. Incluye: Material y certificado d
 e participación en PDF.Facilitador: Lic. Carlos Solera Umaña Licenciado en
  administración de negocios\, técnico en seguros. Más de 30 años de experi
 encia en todos los subprocesos de Gestión de RRHH. Amplia experiencia en o
 rganizaciones de manufactura\, servicios\, cooperativas y ONG’s. Actual fu
 ndador y director de CEDESO.S.A.\nTodas nuestras capacitaciones pueden ser
  impartidas en su organización\nInscripciones e Información al e-mail info
 @cedeso.co.crTel: (506) 2225-1007 / Fax: (506) 2253-2774Visite nuestra pág
 ina www.cedeso.co.crfacebook.com/cedesocostarica
DTSTART:20210223T143000Z
DTEND:20210225T170000Z
GEO:00;0
LOCATION:virtual por Zoom.
ORGANIZER;CN=:info@cedeso.co.cr
SEQUENCE:1
SUMMARY:Detección de necesidades de formación (DNF)
TRANSP:OPAQUE
URL:https://cedeso.co.cr/eventos-anteriores/368-detecci%C3%B3n-de-necesidad
 es-de-formaci%C3%B3n-dnf
END:VEVENT
END:VCALENDAR
