BEGIN:VCALENDAR
VERSION:2.0
PRODID:-//Cedeso//NONSGML kigkonsult.se iCalcreator 2.30.10//
CALSCALE:GREGORIAN
METHOD:PUBLISH
UID:8f1886c8-5942-4390-b606-963a12881470
X-WR-CALNAME:iCagenda
X-WR-CALDESC:Event Management Extension for Joomla!
X-WR-RELCALID:3E26604A-50F4-4449-8B3E-E4F4932D05B5
X-WR-TIMEZONE:America/Costa_Rica
BEGIN:VTIMEZONE
TZID:America/Costa_Rica
BEGIN:STANDARD
TZNAME:CST
DTSTART:20190603T060000
TZOFFSETFROM:+0000
TZOFFSETTO:-0600
END:STANDARD
END:VTIMEZONE
BEGIN:VEVENT
UID:cd3b7801-f623-411e-b961-a8c38d905d06
DTSTAMP:20260419T202544Z
CATEGORIES:Informática
CLASS:PUBLIC
DESCRIPTION;ALTREP="CID:<FFFF__=0ABBE548DFE235B58f9e8a93d@coffeebean.com>":
 Microsoft Excel\nNivel Básico\n \nObjetivo:\nProporcionar a los participan
 tes las herramientas necesarias para manejar las funciones básicas de Exce
 l\, que le permitirán desenvolverse eficazmente en su trabajo\, obteniendo
  así una ventaja competitiva.\nAdemás\, conocer trucos y tips que permitan
  realizar operaciones en menos tiempo\, utilizando teclas rápidas.\nDirigi
 do a:\nEl curso está dirigido al público en general\, de distintos ámbitos
 \, que diariamente trabajan con cuadros estadísticos\, hojas de cálculo\, 
 fórmulas aritméticas\, etc.\nRequisitos:\n\nConocer el manejo de Windows.
 \n\nBeneficios del seminario para los colaboradores de su organización\n\n
 Reconocer las herramientas básicas de Microsoft Excel para trabajar con ho
 jas de cálculo.\nUtilizar las funciones básicas de Excel\, para desenvolve
 rse eficazmente en su trabajo\, obteniendo así una ventaja competitiva.\nO
 btener mejores trabajos\, reestructurando las hojas de cálculo y los forma
 tos de las celdas.\nPautas para realizar un trabajo de manera sencilla uti
 lizando las herramientas de Microsoft Excel.\nUtilizar las opciones de imp
 resión para minimizar los costos\; y mejorar la visibilidad de la informac
 ión.\n\n \nTemario General\n1 INTRODUCCIÓN A EXCEL Y MANEJO DE HOJAS DE CÁ
 LCULO\n\nIntroducción a Microsoft Excel.\nAbrir\, cerrar y crear un libro.
 \nGuardar un libro.\nPartes de la ventana de Excel.\nFormato general de ho
 jas de cálculo.\nInsertar\, copiar\, mover y eliminar una hoja de cálculo.
 \nSelección de hojas de cálculo.\nMedidas de identificación de hojas de cá
 lculo.\n\n \nTema 2 INGRESO DE DATOS EN HOJAS DE CÁLCULO\n\nTipo y formato
  de datos.\nIngreso de datos en Excel.\nSelección de celdas y rangos.\nAju
 stes\, alineación\, fuente y bordes.\nMétodos de copiar\, cortar\, pegar y
  rellenar datos.\nManejo de filas y columnas.\n\n \nTema 3 FÓRMULAS Y FUNC
 IONES\n\nConceptos y componentes de las fórmulas y funciones en Excel.\nOp
 eradores y su prioridad.\nCopiar\, cortar\, mover\, borrar y auto rellenar
  fórmulas.\nLas funciones en Excel\, sus componentes y métodos de ingreso.
 \nSuma\, resta\, multiplicación\, división\, promedio\, conteo y valores m
 áximo y mínimo.\nCálculo de porcentajes.\nReferencias relativas\, absoluta
 s y mixtas.\nFuncion Si\, Contar.Si\, Sumar.SI.\n\n \nTema 4 VISTA E IMPRE
 SIÓN\n\nOpciones de vista.\nOpciones de impresión.\nConfiguración de la pá
 gina.\nConfiguración de encabezado y pie de página.\n\n \n Metodología:\nT
 otalmente práctico con ejercicios que facilitarán el proceso de enseñanza 
 aprendizaje de los participantes.\nDuración:\n16 horas (8 sesiones de 2 ho
 ras cada una)\nFecha: 3\, 5\, 10\, 12\, 17\, 19\, 24 y 26 de marzo del 202
 1.\nHorario: 6:00 p.m. a 8:00 p.m.\n \nInversión:\n¢120.000 + 2% de IVA po
 r participante. Incluye folleto digital y archivos de práctica digital.\nL
 ugar:\nModalidad ONLINE por Skype.\nInstructor:\nIng. Oscar Enrique Necios
 up Morales. Ingeniero en computación y Sistemas\, especializado en la auto
 matización de procesos mediante el desarrollo de herramientas con Visual B
 asic for application en Excel y con SQL.\nExperto en minería de datos\, ad
 ministración de base de datos y gerencia de proyectos informáticos.\nAdemá
 s\, es Master Web Developer. Especialista en administración de redes\, en 
 técnicas operativas para el desarrollo rápido de software.\nConsultor empr
 esarial en el área de cómputo e informática y administración de proyectos 
 por medio de MS Project\, con más de 10 años de experiencia en capacitació
 n y talleres.  Docente Universitario y autor del blog www.expertosenexcelp
 c.com
DTSTART:20210304T000000Z
DTEND:20210327T020000Z
GEO:00;0
LOCATION:online por Skype
ORGANIZER;CN=:info@cedeso.co.cr
SEQUENCE:1
SUMMARY:Microsoft Excel - Nivel Básico
TRANSP:OPAQUE
URL:https://cedeso.co.cr/eventos-anteriores/369-microsoft-excel-nivel-b%C3%
 A1sico
END:VEVENT
END:VCALENDAR
