BEGIN:VCALENDAR
VERSION:2.0
PRODID:-//Cedeso//NONSGML kigkonsult.se iCalcreator 2.30.10//
CALSCALE:GREGORIAN
METHOD:PUBLISH
UID:6fac0ec3-1054-4e84-99ac-6c1eb5038559
X-WR-CALNAME:iCagenda
X-WR-CALDESC:Event Management Extension for Joomla!
X-WR-RELCALID:3E26604A-50F4-4449-8B3E-E4F4932D05B5
X-WR-TIMEZONE:America/Costa_Rica
BEGIN:VTIMEZONE
TZID:America/Costa_Rica
BEGIN:STANDARD
TZNAME:CST
DTSTART:20190524T060000
TZOFFSETFROM:+0000
TZOFFSETTO:-0600
END:STANDARD
END:VTIMEZONE
BEGIN:VEVENT
UID:29691d2d-7737-4b0c-bd83-e752afa8526a
DTSTAMP:20260419T203024Z
CATEGORIES:Operaciones
CLASS:PUBLIC
DESCRIPTION;ALTREP="CID:<FFFF__=0ABBE548DFE235B58f9e8a93d@coffeebean.com>":
 Taller en línea:\nAprenda a calcular correctamente los costos de una impor
 tación\nObjetivo:Brindar un apoyo integral a la empresa con el fin de efic
 ientizar y optimizar sus operaciones de importación\, proporcionando los c
 onocimientos y ayuda necesaria para afrontar de forma exitosa su negocio\,
  bajo un marco preventivo que le garantice minimizar los riesgos y maximiz
 ar sus costos operativos a fin de impactar positivamente el desarrollo de 
 sus operaciones aduaneras.\nTemario:Análisis de costos de importación:\n• 
 La clasificación arancelaria y su impacto en la determinación de los impue
 stos aduaneros.• La participación de los términos de compra venta internac
 ional en la distribución de los costos de importación y cálculo de impuest
 os.• Reparto de costos logísticos entre vendedor y comprador según los tér
 minos de compra venta internacional.• Impacto del valor aduanero en la neg
 ociación de los términos de compra venta internacional y en la determinaci
 ón de los impuestos de importación.• Cómo se determina el valor aduanero c
 omo base imponible para el cálculo de impuestos.• Cálculo de impuestos de 
 importación.• Los impuestos y su tratamiento en función de los Tratados de
  libre comercio.• Aplicación del seguro en la base imponible para el cálcu
 lo de impuestos\, cuando la mercancía no viene asegurada.• Cómo calcular c
 ostos de transporte de cargas consolidadas.• Costos que se deben contempla
 r como parte del valor del producto de importación.• Tips para comprensión
 \, análisis y comparación de tarifas de transporte.• Búsqueda de informaci
 ón en Tic@ y revisión de DUA’s de importación.• Cómo hacer análisis de ofe
 rtas de proveedores y cálculos previos a la importación.• Casos prácticos.
 \nFecha: 22 y 23 de febrero del 2021.Horario: 8:30 a.m. a 12:30 m.d.Duraci
 ón: 8 horas.Plataforma: Zoom.Inversión: ¢65.000 + 2% de IVA por participan
 te.Incluye: Material didáctico y certificado de participación en PDF.\nFac
 ilitadora: Licda. Yorleny Jiménez RojasGraduada con honores de la Universi
 dad de Costa Rica en la carrera de Administración Aduanera y Comercio Exte
 rior. Certificada como especialista en Supply Chain de la Universidad de N
 ebrija en España.Actualmente consultora independiente con 20 años de exper
 iencia en manejo y desarrollo de procesos de internacionalización y logíst
 ica especialmente para el sector agrícola.Especialista en desarrollo de ac
 ompañamientos empresariales en temas de importación\, exportación\, logíst
 ica internacional\, entre otros.Profesora de la Universidad de Costa Rica\
 , Universidad FUNDEPOS y capacitadora activa en diferentes Cámaras que agr
 emia exportadores\, importadores\, empresas PYMES\, entidades estatales\, 
 colegios profesionales\, entre otros.\nTodas nuestras capacitaciones puede
 n ser impartidas en su organización\nInscripciones e información al e-mail
  info@cedeso.co.crTel: (506) 2225-1007 · Tel/Fax: (506) 2253-2774Visite nu
 estra página www.cedeso.co.crfacebook.com/cedesocostarica
DTSTART:20210222T143000Z
DTEND:20210223T183000Z
GEO:00;0
LOCATION:virtual por Zoom.
ORGANIZER;CN=:info@cedeso.co.cr
SEQUENCE:1
SUMMARY:Aprenda a calcular correctamente los costos de una importación
TRANSP:OPAQUE
URL:https://cedeso.co.cr/eventos-anteriores/370-aprenda-a-calcular-correcta
 mente-los-costos-de-una-importaci%C3%B3n
END:VEVENT
END:VCALENDAR
