BEGIN:VCALENDAR
VERSION:2.0
PRODID:-//Cedeso//NONSGML kigkonsult.se iCalcreator 2.30.10//
CALSCALE:GREGORIAN
METHOD:PUBLISH
UID:28d58d82-0edc-4908-9c16-cfdf823bfb56
X-WR-CALNAME:iCagenda
X-WR-CALDESC:Event Management Extension for Joomla!
X-WR-RELCALID:3E26604A-50F4-4449-8B3E-E4F4932D05B5
X-WR-TIMEZONE:America/Costa_Rica
BEGIN:VTIMEZONE
TZID:America/Costa_Rica
BEGIN:STANDARD
TZNAME:CST
DTSTART:20190602T060000
TZOFFSETFROM:+0000
TZOFFSETTO:-0600
END:STANDARD
END:VTIMEZONE
BEGIN:VEVENT
UID:41cd13c7-8ac8-41d3-a9ee-30972ec67bfe
DTSTAMP:20260419T202710Z
CATEGORIES:Operaciones
CLASS:PUBLIC
DESCRIPTION;ALTREP="CID:<FFFF__=0ABBE548DFE235B58f9e8a93d@coffeebean.com>":
 Taller en línea:\nTécnicas de importación y exportación\nObjetivo:Brindar 
 un apoyo integral a los interesados con el fin de optimizar sus operacione
 s de importación y exportación\, proporcionando los conocimientos y ayuda 
 necesaria para afrontar de forma exitosa su negocio\, bajo un marco preven
 tivo que le garantice minimizar los riesgos que pueden impactar el desarro
 llo de sus operaciones aduaneras.\nTemario:\nTécnicas de exportación:\n• ¿
 Qué es una exportación? • ¿Por qué exportar? • Ventajas y riesgos de una e
 xportación.• Cómo desarrollar un plan de exportación que involucre los sig
 uientes aspectos: - Diagnóstico interno y del entorno de la empresa. - Sel
 ección de mercados. - Formas de entrada. - Política de comunicación. - El 
 plan económico. - El plan de acción. - El plan de contingencia.• Proceso a
 duanero de Exportación.• Aspectos logísticos a considerar para que mi proc
 eso de exportación sea exitoso.\nTécnicas de importación:\n• ¿Qué es una i
 mportación?• Condiciones que se deben tomar en cuenta previas a una import
 ación. • Obligaciones que debe cumplir la empresa importadora. • Documento
 s que se deben presentar para realizar una importación. • Qué es una clasi
 ficación arancelaria y su importancia. • Cuáles son los principales errore
 s que se cometen al importar. • ¿Qué es Valoración Aduanera? • Importancia
  de la Declaración de Valor Aduanero. • Cálculo de impuestos aduaneros. • 
 Beneficios de la aplicación de los tratados de libre comercio. • Medidas n
 o arancelarias (notas técnicas). • Costos de importación.\nFecha: 3 y 4 de
  marzo del 2021.Horario: 8:30 a.m. a 11:30 m.d.Duración: 6 horas.Plataform
 a: Zoom.Inversión: ¢60.000 + 2% de IVA por participante.Incluye: Material 
 didáctico y certificado de participación en PDF.\nFacilitadora: Licda. Yor
 leny Jiménez RojasGraduada con honores de la Universidad de Costa Rica en 
 la carrera de Administración Aduanera y Comercio Exterior. Certificada com
 o especialista en Supply Chain de la Universidad de Nebrija en España.Actu
 almente consultora independiente con 20 años de experiencia en manejo y de
 sarrollo de procesos de internacionalización y logística especialmente par
 a el sector agrícola.Especialista en desarrollo de acompañamientos empresa
 riales en temas de importación\, exportación\, logística internacional\, e
 ntre otros.Profesora de la Universidad de Costa Rica\, Universidad FUNDEPO
 S y capacitadora activa en diferentes Cámaras que agremia exportadores\, i
 mportadores\, empresas PYMES\, entidades estatales\, colegios profesionale
 s\, entre otros.\nTodas nuestras capacitaciones pueden ser impartidas en s
 u organización\nInscripciones e información al e-mail info@cedeso.co.crTel
 : (506) 2225-1007 · Tel/Fax: (506) 2253-2774Visite nuestra página www.cede
 so.co.crfacebook.com/cedesocostarica
DTSTART:20210303T143000Z
DTEND:20210304T173000Z
GEO:00;0
LOCATION:virtual por Zoom.
ORGANIZER;CN=:info@cedeso.co.cr
SEQUENCE:1
SUMMARY:Técnicas de importación y exportación
TRANSP:OPAQUE
URL:https://cedeso.co.cr/eventos-anteriores/371-t%C3%A9cnicas-de-importaci%
 C3%B3n-y-exportaci%C3%B3n
END:VEVENT
END:VCALENDAR
