BEGIN:VCALENDAR
VERSION:2.0
PRODID:-//Cedeso//NONSGML kigkonsult.se iCalcreator 2.30.10//
CALSCALE:GREGORIAN
METHOD:PUBLISH
UID:fcf7ac61-b233-4709-a776-9d10fe53ccf8
X-WR-CALNAME:iCagenda
X-WR-CALDESC:Event Management Extension for Joomla!
X-WR-RELCALID:3E26604A-50F4-4449-8B3E-E4F4932D05B5
X-WR-TIMEZONE:America/Costa_Rica
BEGIN:VTIMEZONE
TZID:America/Costa_Rica
BEGIN:STANDARD
TZNAME:CST
DTSTART:20190601T060000
TZOFFSETFROM:+0000
TZOFFSETTO:-0600
END:STANDARD
END:VTIMEZONE
BEGIN:VEVENT
UID:447794f4-abc0-44a6-8a12-4eae9ca4df25
DTSTAMP:20260419T202525Z
CATEGORIES:Mejores Prácticas Organizacionales
CLASS:PUBLIC
DESCRIPTION;ALTREP="CID:<FFFF__=0ABBE548DFE235B58f9e8a93d@coffeebean.com>":
 Programa para Líderes de Capacitación Empresarial\nUn programa urgente par
 a trabajar los temas cruciales de la capacitación.\n3 talleres de cuatro h
 oras cada uno\n \nObjetivo general del programa: las y los participantes s
 erán capaces de explicar1\, aplicar2 y apreciar3 herramientas para dar est
 ablecer necesidades de capacitación con verdadero impacto en el desempeño\
 , calcular el impacto y la rentabilidad (¿Cuánto generamos por cada peso i
 nvertido en capacitación?) y conocer temas de avanzada en capacitación emp
 resarial.\n \n\nDNC: ¡reinventar la capacitación alineada con el desempeño
 !\n\n\nLa “Encuesta de Necesidades de Capacitación” y otras malas ideas en
  DNC…\nManejo de clusters de cargos y brechas de desempeño (modelo Mager2.
 0 aplicado).\nPanel experto: definición de Capacidades Z y capabilities pa
 ra DNC.\nDNC por evidencias\, gerencia del desempeño\, modelo 3C y opcione
 s para cierre de brechas.\n\nFecha: 2 y 4 de marzo 2021.\nHorario: 8:30 a.
 m. a 10:30 a.m.\nDuración: 4 horas.\nPlataforma: Zoom.\nInversión: ¢40.000
  + 2% de IVA por participante.\nIncluye: Material didáctico y certificado 
 de participación en PDF.\n \n\nImpacto y rentabilidad de la Capacitación\n
 \n\nTransferencia\, alineamiento y otros factores a considerar antes de ca
 lcular el impacto…\nNiveles de evaluación de reacción\, aprendizaje\, cond
 uctas e indicadores: ¿Qué miden (o no)?\nDiseños efectivos para aislar el 
 impacto de la capacitación.\nModelo FDC: como calcular\, paso a paso\, cuá
 nto ganamos por cada peso invertido en capacitación.\n\nFecha: 9 y 11 de m
 arzo 2021.\nHorario: 8: 30 a.m. a 10:30 a.m.\nDuración: 4 horas.\nPlatafor
 ma: Zoom.\nInversión: ¢40.000 + 2% de IVA por participante.\nIncluye: Mate
 rial didáctico y certificado de participación en PDF.\n \n\nTemas Avanzado
 s para especialistas de Capacitación\n\n\nEl modelo 3C: ¿Qué hace diferent
 es a las Universidades Empresariales?\nEl modelo 3C (onboarding\, contexto
  competitivo\, capacidades Z) ¡En su empresa!\nModelos 10.20.70 y 20.25.55
 \, Ciclo de Kolb\, AAD e insight del aprendizaje y “reto aprendizaje”.\nMi
 croaprendizaje\, diseño ARCS y carga cognitiva: capacitando en la “nueva n
 ormalidad”.\n\n \nFecha: 16 y 18 de marzo 2021.\nHorario: 8: 30 a.m. a 10:
 30 a.m.\nDuración: 4 horas.\nPlataforma: Zoom.\nInversión: ¢40.000 + 2% de
  IVA por participante.\nIncluye: Material didáctico y certificado de parti
 cipación en PDF.\n \nFacilitador: Dr. Enrique Margery\n\nDoctor en Educaci
 ón y TEDx speaker.\nProfesor de la Maestría en Psicología del Trabajo en l
 a Universidad de Costa Rica. Profesor invitado de la Universidad de Querét
 aro (UAQ\, México) y la Universidad UAGM (Puerto Rico).\nDiseña capacitaci
 ón para desarrollo de soft skills basado en aprendizaje por la experiencia
 \, GBL y “reto-aprendizaje”.\nCoach especialista en ciencia de la colabora
 ción y manejo de top performers.\nDiseña herramientas para medir el Sentid
 o de Urgencia\, el “termómetro de la colaboración” y la rentabilidad de la
  capacitación\, entre otros.\nAutor de los libros “Complejidad y Competenc
 ias”\, “Herramientas de Coaching”\, “El Viaje” (Editorial Norma\; uno de l
 os primeros libros de psicología positiva publicados) y 'Complejidad\, Tra
 nsdisciplinariedad y Compentencias'\n\n \nTodas nuestras capacitaciones pu
 eden ser impartidas en su organización\n \nInscripciones e Información al 
 e-mail info@cedeso.co.cr\nTel: (506) 2225-1007 · Fax: (506) 2253-2774\nVis
 ite nuestra página www.cedeso.co.cr\nfacebook.com/cedesocostarica
DTSTART:20210302T143000Z
DTEND:20210318T163000Z
GEO:00;0
LOCATION:virtual por Zoom.
ORGANIZER;CN=:info@cedeso.co.cr
SEQUENCE:1
SUMMARY:Programa para Líderes de Capacitación Empresarial
TRANSP:OPAQUE
URL:https://cedeso.co.cr/eventos-anteriores/372-programa-para-l%C3%ADderes-
 de-capacitaci%C3%B3n-empresarial
END:VEVENT
END:VCALENDAR
