BEGIN:VCALENDAR
VERSION:2.0
PRODID:-//Cedeso//NONSGML kigkonsult.se iCalcreator 2.30.10//
CALSCALE:GREGORIAN
METHOD:PUBLISH
UID:3e75518c-17f4-4cd6-816c-f82adcbc59f1
X-WR-CALNAME:iCagenda
X-WR-CALDESC:Event Management Extension for Joomla!
X-WR-RELCALID:3E26604A-50F4-4449-8B3E-E4F4932D05B5
X-WR-TIMEZONE:America/Costa_Rica
BEGIN:VTIMEZONE
TZID:America/Costa_Rica
BEGIN:STANDARD
TZNAME:CST
DTSTART:20190713T060000
TZOFFSETFROM:+0000
TZOFFSETTO:-0600
END:STANDARD
END:VTIMEZONE
BEGIN:VEVENT
UID:5088688a-7428-4f1a-aadd-1624c54518a8
DTSTAMP:20260419T203342Z
CATEGORIES:Gestión del Talento
CLASS:PUBLIC
DESCRIPTION;ALTREP="CID:<FFFF__=0ABBE548DFE235B58f9e8a93d@coffeebean.com>":
 Certificación Internacional en Compensación Total\n \nInicio de grupo # 1:
  13 de abril 2021\nHorario: 8:00 a.m. a 10:00 a.m.\n \nInicio de grupo # 2
 : 14 de abril 2021\nHorario: 5:30 p.m. a 7:30 p.m.\n30 encuentros virtuale
 s de 2 horas cada uno\n60 horas de trabajos prácticos\n \nMayor informació
 n en https://onedrive.live.com/?cid=41BBA5CDBD46207E&amp\;id=41BBA5CDBD462
 07E%21221473&amp\;parId=41BBA5CDBD46207E%21214341&amp\;o=OneUp\nO escríban
 os a: info@cedeso.co.cr\nTeléfono: +506 2225-1007
DTSTART:20210413T140000Z
DTEND:20210722T160000Z
GEO:00;0
LOCATION:Virtual por Zoom
ORGANIZER;CN=:info@cedeso.co.cr
SEQUENCE:1
SUMMARY:Certificación Internacional en Compensación Total
TRANSP:OPAQUE
URL:https://cedeso.co.cr/eventos-anteriores/373-certificaci%C3%B3n-internac
 ional-en-compensaci%C3%B3n-total
END:VEVENT
END:VCALENDAR
