BEGIN:VCALENDAR
VERSION:2.0
PRODID:-//Cedeso//NONSGML kigkonsult.se iCalcreator 2.30.10//
CALSCALE:GREGORIAN
METHOD:PUBLISH
UID:a9433d3e-16ce-492c-b889-bbc87b58e789
X-WR-CALNAME:iCagenda
X-WR-CALDESC:Event Management Extension for Joomla!
X-WR-RELCALID:3E26604A-50F4-4449-8B3E-E4F4932D05B5
X-WR-TIMEZONE:America/Costa_Rica
BEGIN:VTIMEZONE
TZID:America/Costa_Rica
BEGIN:STANDARD
TZNAME:CST
DTSTART:20190527T060000
TZOFFSETFROM:+0000
TZOFFSETTO:-0600
END:STANDARD
END:VTIMEZONE
BEGIN:VEVENT
UID:1ffde706-6e87-481f-a054-dabe30e28e4d
DTSTAMP:20260419T202416Z
CATEGORIES:Mejores Prácticas Organizacionales
CLASS:PUBLIC
DESCRIPTION;ALTREP="CID:<FFFF__=0ABBE548DFE235B58f9e8a93d@coffeebean.com>":
 Curso practico y teórico para el 2021\nISO 9001\nA quién está dirigido: Pr
 ofesionales en distintas áreas\, personas que desean superarse y aumentar 
 sus conocimientos.\nObjetivos:• Conocer la norma ISO 9001:2015\, explicar 
 el significado y su alcance.• Desglosar cada una de las partes que son par
 te de la norma ISO 9001:2015.• Explicar conceptos afines e implementación 
 de la norma en la organización.\nResumen de contenidos:1. Historia de la n
 orma y definiciones básicas.2. Beneficios de la norma para la organización
 .3. Desglose de los capítulos de la norma ISO 9001:2015.4. Factores clave 
 en la implementación en la organización.\nFecha: 24 y 25 de febrero del 20
 21.Horario: 8:00 p.m. a 10:00 p.m.Duración: 4 horas.Plataforma: Zoom.Inver
 sión: ¢40.000 + 2% de IVA por participante.Incluye: Material y certificado
  de participación en PDF.\nFacilitador: Ing. César ChavesAdministrador e I
 ngeniero Industrial. 10 años de experiencia en laboratorios en plantas de 
 alimentos y en la industria farmacéutica.\nTodas nuestras capacitaciones p
 ueden ser impartidas en su organización\nInscripciones e información al e-
 mail info@cedeso.co.crTel: (506) 2225-1007 · Tel/Fax: (506) 2253-2774Visit
 e nuestra página www.cedeso.co.crfacebook.com/cedesocostarica
DTSTART:20210225T020000Z
DTEND:20210226T040000Z
GEO:00;0
LOCATION:virtual por Zoom
ORGANIZER;CN=:info@cedeso.co.cr
SEQUENCE:1
SUMMARY:ISO 9001
TRANSP:OPAQUE
URL:https://cedeso.co.cr/eventos-anteriores/374-iso-9001
END:VEVENT
END:VCALENDAR
