BEGIN:VCALENDAR
VERSION:2.0
PRODID:-//Cedeso//NONSGML kigkonsult.se iCalcreator 2.30.10//
CALSCALE:GREGORIAN
METHOD:PUBLISH
UID:3871f2b6-8a44-4a81-8e75-4f52c3e4dd05
X-WR-CALNAME:iCagenda
X-WR-CALDESC:Event Management Extension for Joomla!
X-WR-RELCALID:3E26604A-50F4-4449-8B3E-E4F4932D05B5
X-WR-TIMEZONE:America/Costa_Rica
BEGIN:VTIMEZONE
TZID:America/Costa_Rica
BEGIN:STANDARD
TZNAME:CST
DTSTART:20190706T060000
TZOFFSETFROM:+0000
TZOFFSETTO:-0600
END:STANDARD
END:VTIMEZONE
BEGIN:VEVENT
UID:8ed9cf2a-55a7-4835-9ff8-0a3216d408d3
DTSTAMP:20260419T220154Z
CATEGORIES:Mejores Prácticas Organizacionales
CLASS:PUBLIC
DESCRIPTION;ALTREP="CID:<FFFF__=0ABBE548DFE235B58f9e8a93d@coffeebean.com>":
 Programa de Desarrollo de la Agilidad (PDA)\nUn programa para desarrollar 
 capacidades urgentes para el Mundo VICA3 talleres de cuatro horas cada uno
 \nObjetivo general del Programa: las las y los participantes serán capaces
  de explicar1\, aplicar2 y apreciar3 herramientas para establecer priorida
 des\, detectar comportamientos obstaculizadores y fomentar comportamientos
  orientados a la agilidad y la tenacidad e identificar los obstáculos a la
  ejecución y las mejores prácticas para superarlos.\n1. Manejo de las Prio
 ridades• ¡Priorizar! A trabajar con las 10 capacidades que la componen.• D
 iseño de plan de acción personal con las 10 capacidades.• Plan 1-3-9: dist
 inciones y manejo de lo urgente y lo importante (con tema nuevo: “1-3-9” e
 n equipos remotos).• Reuniones ágiles: reglas de juego\, comportamientos p
 ositivos y obstáculos que debemos manejar.\nFecha: 6 y 8 de abril del 2021
 .Horario: 2:00 p.m. a 4:00 p.m.Duración: 4 horas.Plataforma: Zoom.Inversió
 n: ¢40.000 + 2% de IVA por participante.Incluye: Material didáctico y cert
 ificado de participación en PDF.\n2. Sentido de Urgencia (SU) • Acción ági
 l y libre de errores. Las cuatro dimensiones del Sentido de Urgencia. • Au
 toevaluación del SU en sus cuatro dimensiones (instrumento exclusivo del O
 pen Institute).• Comportamientos pro y contra Sentido de Urgencia en prome
 sas\, agilidad\, tenacidad y manejo de prioridades.• Urgencia e Inmunidad 
 al Cambio: del “cambio por miedo” al “cambio apreciativo”.\nFecha: 13 y 15
  de abril del 2021.Horario: 2:00 p.m. a 4:00 p.m.Duración: 4 horas.Platafo
 rma: Zoom.Inversión: ¢40.000 + 2% de IVA por participante.Incluye: Materia
 l didáctico y certificado de participación en PDF.\n3. Capacidad de Ejecuc
 ión• Las nueve capacidades asociadas con la Agilidad en personas\, grupos 
 y organizaciones.• Hablando claro de las fallas en la ejecución: el triáng
 ulo evitación-disciplina-placidez.• Guías para la acción en Liderazgo para
  la Ejecución.• Factores de éxito para la ejecución organizacional: compor
 tamientos alineados y desalineados con las capabilities\, sincronización y
  alineamiento.\nFecha: 20 y 22 de abril del 2021.Horario: 2:00 p.m. a 4:00
  p.m.Duración: 4 horas.Plataforma: Zoom.Inversión: ¢40.000 + 2% de IVA por
  participante.Incluye: Material didáctico y certificado de participación e
 n PDF.\nFacilitador: Dr. Enrique Margery- Doctor en Educación y TEDx speak
 er.- Profesor de la Maestría en Psicología del Trabajo en la Universidad d
 e Costa Rica. Profesor invitado de la Universidad de Querétaro (UAQ\, Méxi
 co) y la Universidad UAGM (Puerto Rico).- Diseña capacitación para desarro
 llo de soft skills basado en aprendizaje por la experiencia\, GBL y “reto-
 aprendizaje”.- Coach especialista en ciencia de la colaboración y manejo d
 e top performers.- Diseña herramientas para medir el Sentido de Urgencia\,
  el “termómetro de la colaboración” y la rentabilidad de la capacitación\,
  entre otros.- Autor de los libros “Complejidad y Competencias”\, “Herrami
 entas de Coaching”\, “El Viaje” (Editorial Norma\; uno de los primeros lib
 ros de psicología positiva publicados) y 'Complejidad\, Transdisciplinarie
 dad y Compentencias'\nTodas nuestras capacitaciones pueden ser impartidas 
 en su organización\nInscripciones e Información al e-mail info@cedeso.co.c
 rTel: (506) 2225-1007 · Fax: (506) 2253-2774Visite nuestra página www.cede
 so.co.crfacebook.com/cedesocostarica\n 
DTSTART:20210406T200000Z
DTEND:20210422T220000Z
GEO:00;0
LOCATION:Virtual por Zoom
ORGANIZER;CN=:info@cedeso.co.cr
SEQUENCE:1
SUMMARY:Programa de Desarrollo de la Agilidad (PDA)
TRANSP:OPAQUE
URL:https://cedeso.co.cr/eventos-anteriores/376-programa-de-desarrollo-de-l
 a-agilidad-pda
END:VEVENT
END:VCALENDAR
