BEGIN:VCALENDAR
VERSION:2.0
PRODID:-//Cedeso//NONSGML kigkonsult.se iCalcreator 2.30.10//
CALSCALE:GREGORIAN
METHOD:PUBLISH
UID:b0794656-c86b-4627-b8f4-524464a93eac
X-WR-CALNAME:iCagenda
X-WR-CALDESC:Event Management Extension for Joomla!
X-WR-RELCALID:3E26604A-50F4-4449-8B3E-E4F4932D05B5
X-WR-TIMEZONE:America/Costa_Rica
BEGIN:VTIMEZONE
TZID:America/Costa_Rica
BEGIN:STANDARD
TZNAME:CST
DTSTART:20190527T060000
TZOFFSETFROM:+0000
TZOFFSETTO:-0600
END:STANDARD
END:VTIMEZONE
BEGIN:VEVENT
UID:1daa8a65-aac4-43f0-9005-03ba92f67118
DTSTAMP:20260419T203033Z
CATEGORIES:Mejores Prácticas Organizacionales
CLASS:PUBLIC
DESCRIPTION;ALTREP="CID:<FFFF__=0ABBE548DFE235B58f9e8a93d@coffeebean.com>":
 Encuentre la información completa aquí:\nhttps://1drv.ms/b/s!An4gRr3NpbtBj
 cgCEbici0ewB8hVEQ?e=HLmOxI\n \n \n\n\n \n 
DTSTART:20210225T000000Z
DTEND:20210425T030000Z
GEO:00;0
LOCATION:e-Learning Center
ORGANIZER;CN=:info@cedeso.co.cr
SEQUENCE:1
SUMMARY:Certificación Internacional para Aplicar Gamificación en Procesos d
 e Aprendizaje
TRANSP:OPAQUE
URL:https://cedeso.co.cr/eventos-anteriores/377-certificaci%C3%B3n-internac
 ional-para-aplicar-gamificaci%C3%B3n-en-procesos-de-aprendizaje
END:VEVENT
END:VCALENDAR
