BEGIN:VCALENDAR
VERSION:2.0
PRODID:-//Cedeso//NONSGML kigkonsult.se iCalcreator 2.30.10//
CALSCALE:GREGORIAN
METHOD:PUBLISH
UID:90fea9b2-ce48-4423-9baa-fb4154746653
X-WR-CALNAME:iCagenda
X-WR-CALDESC:Event Management Extension for Joomla!
X-WR-RELCALID:3E26604A-50F4-4449-8B3E-E4F4932D05B5
X-WR-TIMEZONE:America/Costa_Rica
BEGIN:VTIMEZONE
TZID:America/Costa_Rica
BEGIN:STANDARD
TZNAME:CST
DTSTART:20190519T060000
TZOFFSETFROM:+0000
TZOFFSETTO:-0600
END:STANDARD
END:VTIMEZONE
BEGIN:VEVENT
UID:052d3464-fdc7-4423-8de1-6deca5831afe
DTSTAMP:20260419T202525Z
CATEGORIES:Ventas
CLASS:PUBLIC
DESCRIPTION;ALTREP="CID:<FFFF__=0ABBE548DFE235B58f9e8a93d@coffeebean.com>":
 Webinar internacional:\nVentas 4 x 4\nDIRIGDO A: Vendedores\, Supervisores
  de ventas\, Gerentes de Zona\, demás interesados.\nOBJETIVO: Desarrollar 
 capacidades en la fuerza de ventas\, para sobre ponerse a los desafíos del
  mercado.\nRESUMEN DE CONTENIDOS:Desarrollar la capacidad de Diagnosis - p
 rognosis y presupuesto.Misión\, Visión\, Pasión y Objetivos SMARTS.Revisió
 n y análisis de principios de éxito ante los desafíos en la actualidad.\nF
 echa: 16\, 18\, 23 y 25 de febrero 2021.Horario: 6:30 p.m. a 8:30 p.m.Dura
 ción total: 8 horas.Modalidad: Virtual por Zoom.Inversión: US$130.00 por p
 articipante.Incluye: Material y certificado en PDF.\nFACILITADOR: Emilio H
 enríquezLicenciatura en Marketing\, Postgrado en Calidad con ISO 9000\,  P
 ostgrado en Seguridad y Desarrollo Nacional\, Maestría en Consultoría Empr
 esarial\, Estudios en Empresas y Conglomerados Familiares\, Consultor PYME
 \, Facilitador de procesos de aprendizaje empresarial\, Manejo de Juntas D
 irectivas\, Director de empresas\, Miembro de Juntas Directivas\, Docente 
 universitario\, Conferencista internacional y Escritor\, autor del libro M
 anos a la Venta.\nTodas nuestras capacitaciones pueden ser impartidas en s
 u organización\nInscripciones e información al e-mail info@cedeso.co.crTel
 : (506) 2225-1007 · Tel/Fax: (506) 2253-2774Visite nuestra página www.cede
 so.co.crfacebook.com/cedesocostarica
DTSTART:20210217T003000Z
DTEND:20210226T023000Z
GEO:00;0
LOCATION:virtual por Zoom
ORGANIZER;CN=:info@cedeso.co.cr
SEQUENCE:1
SUMMARY:Ventas 4 x 4
TRANSP:OPAQUE
URL:https://cedeso.co.cr/eventos-anteriores/380-ventas-4-x-4
END:VEVENT
END:VCALENDAR
