BEGIN:VCALENDAR
VERSION:2.0
PRODID:-//Cedeso//NONSGML kigkonsult.se iCalcreator 2.30.10//
CALSCALE:GREGORIAN
METHOD:PUBLISH
UID:6f124d01-00f6-481b-873c-d95e1cfbb152
X-WR-CALNAME:iCagenda
X-WR-CALDESC:Event Management Extension for Joomla!
X-WR-RELCALID:3E26604A-50F4-4449-8B3E-E4F4932D05B5
X-WR-TIMEZONE:America/Costa_Rica
BEGIN:VTIMEZONE
TZID:America/Costa_Rica
BEGIN:STANDARD
TZNAME:CST
DTSTART:20190615T060000
TZOFFSETFROM:+0000
TZOFFSETTO:-0600
END:STANDARD
END:VTIMEZONE
BEGIN:VEVENT
UID:efba1c59-87e8-4b9e-868b-d81f814c98bc
DTSTAMP:20260419T202526Z
CATEGORIES:Operaciones
CLASS:PUBLIC
DESCRIPTION;ALTREP="CID:<FFFF__=0ABBE548DFE235B58f9e8a93d@coffeebean.com>":
 Curso básico para principiantes\nFormulación y evaluación de proyectos\n 
 \n¿Necesita usted saber por qué es importante el manejo de proyectos en la
  actualidad?\n¿Está usted preparado para comprender porque los proyectos n
 os sirven para tomar las decisiones inteligentes que se requieren en un mu
 ndo competitivo como el de hoy?\n \nFecha: 16\, 19\, 22\, 24 y 26 de marzo
  del 2021\nHorario: 8:00 a.m. a 12:00 m.d.\nDuración: 20 horas.\nLugar: Pl
 ataforma Zoom\nInversión: ¢ 150.000 + 2% de IVA por participante.\nIncluye
 : Material y certificado de participación en PDF.\n \nDirigido a: Profesio
 nales\, empresarios (medianos y microempresarios)\, gerentes\, profesional
 es independientes\, funcionarios que desean vincularse a la toma de decisi
 ones en el área de inversión pública y/o privada\, auditoría\, finanzas\, 
 proveeduría\, así como personas emprendedoras deseosas e interesados en co
 nocer el amplio mundo de los proyectos y que deseen poseer los conocimient
 os generales en esta materia.\n \nObjetivo: Brindar a los participantes lo
 s conocimientos básicos para conocer la dinámica y metodología de proyecto
 s\, a fin de entender en que consiste el Ciclo de Vida de un proyecto\, su
 s diferentes etapas y el proceso de formulación y evaluación de un Proyect
 o de Inversión.\n \nContenido del curso:\n\nObjetivos\nElementos conceptua
 les\nImportancia de la inversión pública/privada\nEl ciclo vida de un proy
 ecto\n\nEtapa de preinversión\nEtapa de promoción y negociación\nEtapa de 
 un proyecto de inversión\nEtapa de operación\, mantenimiento y cierre\n\n
 \n\n \n\nTipos de proyectos en el ciclo de vida\nLa etapa de la preinversi
 ón\n\nEl proceso de planificación/formulación\n\nIdentificación de proyect
 o\nEstudio de mercado\nEstudio técnico\, legal\, administrativo\, organiza
 cional\n\n\nEl proceso de evaluación\n\nEvaluación financiera\nEvaluación 
 económica y social\nEvaluación de impacto ambiental\n\n\n\n\n\nExpositor:
 \nFremi Mejía Canelo:  Ingeniero Civil y Máster en Construcciones Hidrotéc
 nicas de la Universidad Amistad de los Pueblo de Moscú\, Rusia\, posee est
 udios de Maestría en Política Económica con énfasis en Sector Externo de l
 a Universidad Nacional de Costa Rica. Es candidato a Doctor en Gestión Púb
 lica y Ciencias Empresariales del Instituto Centroamericano de Administrac
 ión Pública (ICAP). Posgrado en proyectos de desarrollo en el ICAP. Cuenta
  con más de 3 décadas de experiencia en el ICAP\, como Docente y Consultor
  en Gerencia de Proyectos de Desarrollo\, ha sido Coordinador del área de 
 Gestión de Políticas y Negociaciones Internacionales y de Asistencia Técni
 ca. Actualmente es Consultor Independiente y profesor del Programa de Posg
 rado en Formulación de Programas y Proyectos de la Facultad de Ciencias So
 ciales de la UCR y de los Programas de Maestría en Gerencia de Proyectos y
  de Gestión Ambiental y Desarrollo Local del ICAP.\n \nTodas nuestras capa
 citaciones pueden ser impartidas en su organización\n \nInscripciones e in
 formación al e-mail info@cedeso.co.cr\nTel: (506) 2225-1007 · Tel/Fax: (50
 6) 2253-2774\nVisite nuestra página www.cedeso.co.cr\nfacebook.com/cedesoc
 ostarica\n 
DTSTART:20210316T140000Z
DTEND:20210326T180000Z
GEO:00;0
LOCATION:Virtual por Zoom
ORGANIZER;CN=:info@cedeso.co.cr
SEQUENCE:1
SUMMARY:Formulación y evaluación de proyectos
TRANSP:OPAQUE
URL:https://cedeso.co.cr/eventos-anteriores/382-formulaci%C3%B3n-y-evaluaci
 %C3%B3n-de-proyectos
END:VEVENT
END:VCALENDAR
