BEGIN:VCALENDAR
VERSION:2.0
PRODID:-//Cedeso//NONSGML kigkonsult.se iCalcreator 2.30.10//
CALSCALE:GREGORIAN
METHOD:PUBLISH
UID:5e142578-1611-488b-aca3-c13214999560
X-WR-CALNAME:iCagenda
X-WR-CALDESC:Event Management Extension for Joomla!
X-WR-RELCALID:3E26604A-50F4-4449-8B3E-E4F4932D05B5
X-WR-TIMEZONE:America/Costa_Rica
BEGIN:VTIMEZONE
TZID:America/Costa_Rica
BEGIN:STANDARD
TZNAME:CST
DTSTART:20190616T060000
TZOFFSETFROM:+0000
TZOFFSETTO:-0600
END:STANDARD
END:VTIMEZONE
BEGIN:VEVENT
UID:43cdda5e-7eb7-4cac-9cce-1803fbfe9a4c
DTSTAMP:20260419T205101Z
CATEGORIES:Mejores Prácticas Organizacionales
CLASS:PUBLIC
DESCRIPTION;ALTREP="CID:<FFFF__=0ABBE548DFE235B58f9e8a93d@coffeebean.com>":
 Taller:\nHerramientas ejecutivas para asistentes\, oficinistas y auxiliare
 s\nCree relaciones exitosas con sus jefes y compañeros.Aumente sus compete
 ncias y optimice su tiempo.Aprenda a mejorar su la efectividad de su comun
 icación.\nContenidos:1. Cómo identificar mi estilo preferido de trabajo y 
 el de los demás.    - Contribuyendo a crear un ambiente laboral efectivo y
  agradable.2. Las claves para el manejo productivo del tiempo.    - Cómo c
 rear tiempo y lograr un equilibrio vida-trabajo.3. Mejorando mi comunicaci
 ón.    - Aprendiendo a manejar el acuse de recibo.    - Claves para tener 
 éxito en la comunicación.4. Llevándose bien con todo tipo de personas.\nMe
 todología: Análisis de casos\, videos\, uso de listas de verificación.Ejem
 plos propios de la realidad de nuestras organizaciones.\nFecha: 17 de marz
 o del 2021Horario: 8:30 a.m. a 12:00 a.m.Duración total: 3.5 horas.Metodol
 ogía: Virtual por plataforma Zoom.Inversión: ¢35.000 + 2% de IVA por parti
 cipante. Incluye: Material y certificado de participación en PDF.\nFacilit
 ador: Lic. Carlos Solera Umaña Licenciado en administración de negocios\, 
 técnico en seguros. Más de 30 años de experiencia en todos los subprocesos
  de Gestión de RRHH. Amplia experiencia en organizaciones de manufactura\,
  servicios\, cooperativas y ONG’s. Actual fundador y director de CEDESO.S.
 A.\nTodas nuestras capacitaciones pueden ser impartidas en su organización
 \nInscripciones e Información al e-mail info@cedeso.co.crTel: (506) 2225-1
 007 / Fax: (506) 2253-2774Visite nuestra página www.cedeso.co.crfacebook.c
 om/cedesocostarica\n 
DTSTART:20210317T143000Z
DTEND:20210317T180000Z
GEO:00;0
LOCATION:Virtual por Zoom.
ORGANIZER;CN=:info@cedeso.co.cr
SEQUENCE:1
SUMMARY:Herramientas ejecutivas para asistentes\, oficinistas y auxiliares
TRANSP:OPAQUE
URL:https://cedeso.co.cr/eventos-anteriores/383-herramientas-ejecutivas-par
 a-asistentes,-oficinistas-y-auxiliares
END:VEVENT
END:VCALENDAR
