BEGIN:VCALENDAR
VERSION:2.0
PRODID:-//Cedeso//NONSGML kigkonsult.se iCalcreator 2.30.10//
CALSCALE:GREGORIAN
METHOD:PUBLISH
UID:518b560c-82dc-4f83-ba10-ee6b70aa1cb9
X-WR-CALNAME:iCagenda
X-WR-CALDESC:Event Management Extension for Joomla!
X-WR-RELCALID:3E26604A-50F4-4449-8B3E-E4F4932D05B5
X-WR-TIMEZONE:America/Costa_Rica
BEGIN:VTIMEZONE
TZID:America/Costa_Rica
BEGIN:STANDARD
TZNAME:CST
DTSTART:20190615T060000
TZOFFSETFROM:+0000
TZOFFSETTO:-0600
END:STANDARD
END:VTIMEZONE
BEGIN:VEVENT
UID:c4cf7936-3933-46c1-9839-2264f0352806
DTSTAMP:20260419T202851Z
CATEGORIES:Mejores Prácticas Organizacionales
CLASS:PUBLIC
DESCRIPTION;ALTREP="CID:<FFFF__=0ABBE548DFE235B58f9e8a93d@coffeebean.com>":
 Taller:\nKPIs Indicadores del Talento\n \nCon doble certificación: una por
  cada taller al que asista\, más un Certificado del Programa para Gestores
  del Talento\, para quien asista a los tres talleres.\n1. Cómo definir pue
 stos críticos2. KPIs Indicadores del talento3. Mapas del talento\nContenid
 os:• Cómo definir\, con datos\, el alto y el bajo desempeño. • Temas cruci
 ales de pensamiento métrico y excelencia manejando indicadores.• “Modelo p
 ara armar”: inventario de indicadores del talento potentes en las 5 áreas 
 de métrica del talento.• Metodología para generar indicadores de talento a
 gregados ¡Un ejemplo concreto!\nFecha: 16 y 18 de marzo del 2021.Horario: 
 2:00 p.m. a 4:00 p.m.Duración: 4 horas.Plataforma: Zoom.Inversión: ¢40.000
  + 2% de IVA por participante.Incluye: Material didáctico y certificado de
  participación en PDF.\nFacilitador: Dr. Enrique Margery- Doctor en Educac
 ión y TEDx speaker.- Profesor de la Maestría en Psicología del Trabajo en 
 la Universidad de Costa Rica. Profesor invitado de la Universidad de Queré
 taro (UAQ\, México) y la Universidad UAGM (Puerto Rico).- Diseña capacitac
 ión para desarrollo de soft skills basado en aprendizaje por la experienci
 a\, GBL y “reto-aprendizaje”.- Coach especialista en ciencia de la colabor
 ación y manejo de top performers.- Diseña herramientas para medir el Senti
 do de Urgencia\, el “termómetro de la colaboración” y la rentabilidad de l
 a capacitación\, entre otros.- Autor de los libros “Complejidad y Competen
 cias”\, “Herramientas de Coaching”\, “El Viaje” (Editorial Norma\; uno de 
 los primeros libros de psicología positiva publicados) y 'Complejidad\, Tr
 ansdisciplinariedad y Compentencias'\nTodas nuestras capacitaciones pueden
  ser impartidas en su organización\nInscripciones e Información al e-mail 
 info@cedeso.co.crTel: (506) 2225-1007 · Fax: (506) 2253-2774Visite nuestra
  página www.cedeso.co.crfacebook.com/cedesocostarica
DTSTART:20210316T200000Z
DTEND:20210318T220000Z
GEO:00;0
LOCATION:virtual por Zoom
ORGANIZER;CN=:info@cedeso.co.cr
SEQUENCE:1
SUMMARY:KPIs Indicadores del Talento
TRANSP:OPAQUE
URL:https://cedeso.co.cr/eventos-anteriores/385-kpis-indicadores-del-talent
 o
END:VEVENT
END:VCALENDAR
