BEGIN:VCALENDAR
VERSION:2.0
PRODID:-//Cedeso//NONSGML kigkonsult.se iCalcreator 2.30.10//
CALSCALE:GREGORIAN
METHOD:PUBLISH
UID:95b34f63-6670-4530-adee-e8d4c0467745
X-WR-CALNAME:iCagenda
X-WR-CALDESC:Event Management Extension for Joomla!
X-WR-RELCALID:3E26604A-50F4-4449-8B3E-E4F4932D05B5
X-WR-TIMEZONE:America/Costa_Rica
BEGIN:VTIMEZONE
TZID:America/Costa_Rica
BEGIN:STANDARD
TZNAME:CST
DTSTART:20190622T060000
TZOFFSETFROM:+0000
TZOFFSETTO:-0600
END:STANDARD
END:VTIMEZONE
BEGIN:VEVENT
UID:937c180f-e510-4f83-92d0-84f6234c5fe6
DTSTAMP:20260419T202421Z
CATEGORIES:Mejores Prácticas Organizacionales
CLASS:PUBLIC
DESCRIPTION;ALTREP="CID:<FFFF__=0ABBE548DFE235B58f9e8a93d@coffeebean.com>":
 Taller:\nMapas del talento\n \nCon doble certificación: una por cada talle
 r al que asista\, más un Certificado del Programa para Gestores del Talent
 o\, para quien asista a los tres talleres.\n1. Cómo definir puestos crític
 os2. KPIs Indicadores del talento3. Mapas del talento\nContenidos:• Escala
 s de medición del potencial y escalas del desempeño ¿Cuál es la diferencia
 ? • Las tres dimensiones para evaluar el potencial. Trabajo de cada partic
 ipante evaluación de potencial.• ¿Cómo evaluar el potencial en tiempos de 
 incertidumbre (COVID-19)?• Mapas del Talento 4x4 por desempeño y potencial
 .• Talento y tablas de reemplazo: trabajo con casos de saturación\, bloque
 o y vacío.\nFecha: 23 y 25 de marzo del 2021.Horario: 2:00 p.m. a 4:00 p.m
 .Duración: 4 horas.Plataforma: Zoom.Inversión: ¢40.000 + 2% de IVA por par
 ticipante.Incluye: Material didáctico y certificado de participación en PD
 F.\nFacilitador: Dr. Enrique Margery- Doctor en Educación y TEDx speaker.-
  Profesor de la Maestría en Psicología del Trabajo en la Universidad de Co
 sta Rica. Profesor invitado de la Universidad de Querétaro (UAQ\, México) 
 y la Universidad UAGM (Puerto Rico).- Diseña capacitación para desarrollo 
 de soft skills basado en aprendizaje por la experiencia\, GBL y “reto-apre
 ndizaje”.- Coach especialista en ciencia de la colaboración y manejo de to
 p performers.- Diseña herramientas para medir el Sentido de Urgencia\, el 
 “termómetro de la colaboración” y la rentabilidad de la capacitación\, ent
 re otros.- Autor de los libros “Complejidad y Competencias”\, “Herramienta
 s de Coaching”\, “El Viaje” (Editorial Norma\; uno de los primeros libros 
 de psicología positiva publicados) y 'Complejidad\, Transdisciplinariedad 
 y Compentencias'\nTodas nuestras capacitaciones pueden ser impartidas en s
 u organización\nInscripciones e Información al e-mail info@cedeso.co.crTel
 : (506) 2225-1007 · Fax: (506) 2253-2774Visite nuestra página www.cedeso.c
 o.crfacebook.com/cedesocostarica
DTSTART:20210323T200000Z
DTEND:20210325T220000Z
GEO:00;0
LOCATION:Virtual por Zoom.
ORGANIZER;CN=:info@cedeso.co.cr
SEQUENCE:1
SUMMARY:Mapas del talento
TRANSP:OPAQUE
URL:https://cedeso.co.cr/eventos-anteriores/386-mapas-del-talento
END:VEVENT
END:VCALENDAR
