BEGIN:VCALENDAR
VERSION:2.0
PRODID:-//Cedeso//NONSGML kigkonsult.se iCalcreator 2.30.10//
CALSCALE:GREGORIAN
METHOD:PUBLISH
UID:40048152-fc60-4176-9c81-598a9b521035
X-WR-CALNAME:iCagenda
X-WR-CALDESC:Event Management Extension for Joomla!
X-WR-RELCALID:3E26604A-50F4-4449-8B3E-E4F4932D05B5
X-WR-TIMEZONE:America/Costa_Rica
BEGIN:VTIMEZONE
TZID:America/Costa_Rica
BEGIN:STANDARD
TZNAME:CST
DTSTART:20190609T060000
TZOFFSETFROM:+0000
TZOFFSETTO:-0600
END:STANDARD
END:VTIMEZONE
BEGIN:VEVENT
UID:289eaa50-1010-4265-809b-6af204ea8ec4
DTSTAMP:20260419T204205Z
CATEGORIES:Mejores Prácticas Organizacionales
CLASS:PUBLIC
DESCRIPTION;ALTREP="CID:<FFFF__=0ABBE548DFE235B58f9e8a93d@coffeebean.com>":
 Taller:\nResiliencia para personas\, equipos y empresas en la nueva normal
 idad\n(6 horas + Padlet con recursos para trabajo asincrónico de cada part
 icipante con su equipo)\nEl desarrollo individual y grupal de las capacida
 des de afrontamiento es algo urgente en la nueva normalidad\nContenidos:• 
 La resiliencia se aprende: cuatro estrategias de perfil resiliente para ap
 licar “aquí y ahora” en la “nueva normalidad”.• Autoevaluación de la capac
 idad de resiliencia y persistencia de cada participante.• Decidir y actuar
  en la incertidumbre y sostener el esfuerzo en tiempos difíciles: autocuid
 ado y resiliencia en personas y equipos.• Optimismo\, colaboración y orien
 tación a metas: desarrollo de la resiliencia personal\, orientada a otros 
 y orientada al entorno de la empresa. • Resiliencia en el trabajo: nueve e
 strategias para desarrollar la capacidad de sobreponerse. Trabajo individu
 al/grupal de reconocimiento y aplicación de las estrategias.• Aplicando 7 
 guías para la acción de la mentalidad resiliente.• 10 guías para la acción
  en equipos resilientes remotos\, con autoevaluación.\nFecha: 10\, 17 y 24
  de marzo del 2021.Horario: 3:00 p.m. a 5:00 p.m.Duración: 6 horas.Platafo
 rma: Zoom.Inversión: ¢60.000 + 2% de IVA por participante.Incluye: Materia
 l didáctico y certificado de participación en PDF.\nFacilitador: Dr. Enriq
 ue Margery- Doctor en Educación y TEDx speaker.- Profesor de la Maestría e
 n Psicología del Trabajo en la Universidad de Costa Rica. Profesor invitad
 o de la Universidad de Querétaro (UAQ\, México) y la Universidad UAGM (Pue
 rto Rico).- Diseña capacitación para desarrollo de soft skills basado en a
 prendizaje por la experiencia\, GBL y “reto-aprendizaje”.- Coach especiali
 sta en ciencia de la colaboración y manejo de top performers.- Diseña herr
 amientas para medir el Sentido de Urgencia\, el “termómetro de la colabora
 ción” y la rentabilidad de la capacitación\, entre otros.- Autor de los li
 bros “Complejidad y Competencias”\, “Herramientas de Coaching”\, “El Viaje
 ” (Editorial Norma\; uno de los primeros libros de psicología positiva pub
 licados) y 'Complejidad\, Transdisciplinariedad y Compentencias'\nTodas nu
 estras capacitaciones pueden ser impartidas en su organización\nInscripcio
 nes e Información al e-mail info@cedeso.co.crTel: (506) 2225-1007 · Fax: (
 506) 2253-2774Visite nuestra página www.cedeso.co.crfacebook.com/cedesocos
 tarica
DTSTART:20210310T210000Z
DTEND:20210324T230000Z
GEO:00;0
LOCATION:virtual por Zoom.
ORGANIZER;CN=:info@cedeso.co.cr
SEQUENCE:1
SUMMARY:Resiliencia para personas\, equipos y empresas en la nueva normalid
 ad
TRANSP:OPAQUE
URL:https://cedeso.co.cr/eventos-anteriores/387-resiliencia-para-grupos-e-i
 ndividuos-en-la-nueva-normalidad
END:VEVENT
END:VCALENDAR
