BEGIN:VCALENDAR
VERSION:2.0
PRODID:-//Cedeso//NONSGML kigkonsult.se iCalcreator 2.30.10//
CALSCALE:GREGORIAN
METHOD:PUBLISH
UID:d8bb5494-65f4-4061-8253-fb34e7bc0f7e
X-WR-CALNAME:iCagenda
X-WR-CALDESC:Event Management Extension for Joomla!
X-WR-RELCALID:3E26604A-50F4-4449-8B3E-E4F4932D05B5
X-WR-TIMEZONE:America/Costa_Rica
BEGIN:VTIMEZONE
TZID:America/Costa_Rica
BEGIN:STANDARD
TZNAME:CST
DTSTART:20190615T060000
TZOFFSETFROM:+0000
TZOFFSETTO:-0600
END:STANDARD
END:VTIMEZONE
BEGIN:VEVENT
UID:ce14886a-5aa9-4c33-8c0a-e768fe405660
DTSTAMP:20260419T220752Z
CATEGORIES:Mejores Prácticas Organizacionales
CLASS:PUBLIC
DESCRIPTION;ALTREP="CID:<FFFF__=0ABBE548DFE235B58f9e8a93d@coffeebean.com>":
 Taller en línea:\nAprendiendo a ser jefes o supervisores\nDirigido a: Pers
 onas que estén iniciando puestos de jefatura\, supervisión o coordinación\
 , personas que ya tienen experiencia en manejo de personal pero desean ref
 rescar conocimientos y adquirir herramientas para hacer una mejor gestión 
 de los equipos que tienen a su cargo.\nObjetivo general: Implementar un en
 trenamiento práctico\, orientado al desarrollo de habilidades básicas de l
 iderazgo\, supervisión y manejo de personal desde un enfoque asertivo y or
 ientado a resultados fortaleciendo el compromiso personal con la productiv
 idad individual y colectiva.\nContenidos:\nEl rol del supervisor • ¿Qué si
 gnifica para mí ser supervisor? • Habilidades que poseo que me hacen un bu
 en supervisor • Conociendo mi estilo de liderazgo (Tipos de liderazgo) • ¿
 Qué se espera de mí como supervisor? (Habilidades indispensables de un sup
 ervisor) • Construyendo mi propio estilo de jefe • El supervisor como mode
 lo a seguir en sus equipos de trabajo\nHerramientas prácticas para supervi
 sar y liderar equipos  • Principios básicos de comunicación asertiva • ¿Có
 mo dar instrucciones de forma asertiva? • Estrategias para dar retroalimen
 tación individual • Estrategias para liderar reuniones de equipo efectivas
  • Estrategias básicas de administración adecuada del tiempo • Habilidades
  básicas de inteligencia emocional para supervisores • Los errores más com
 unes de los líderes • Motivación de los equipos de trabajo • Empatía\, col
 aboración y trabajo en equipo como clave de las relaciones laborales • Res
 olución de conflictos en los equipos de trabajo\nFecha: 16\, 18\, 23 y 25 
 de marzo del 2021.Horario: 8:00 a.m. a 12:00 m.d.Duración: 16 horas.Plataf
 orma: ZoomInversión: ¢160.000 + 2% IVA por participante.Incluye: Material 
 y certificado de participación en PDF.\nFacilitadora: Licda. Gina Sequeira
 \, psicóloga certificada en Business Coaching\, con más de 15 años de expe
 riencia en el diseño de procesos de capacitación vinculados al desarrollo 
 de habilidades blandas y el fortalecimiento de equipos de alto desempeño.
 \nTodas nuestras capacitaciones pueden ser impartidas en su organización.
 \nInscripciones e Información al e-mail info@cedeso.co.crTel: (506) 2225-1
 007 Fax: (506) 2253-2774Visite nuestra página www.cedeso.co.crfacebook.com
 /cedesocostarica\n 
DTSTART:20210316T140000Z
DTEND:20210325T180000Z
GEO:00;0
LOCATION:Virtual por Zoom.
ORGANIZER;CN=:info@cedeso.co.cr
SEQUENCE:1
SUMMARY:Aprendiendo a ser jefes o supervisores
TRANSP:OPAQUE
URL:https://cedeso.co.cr/eventos-anteriores/388-aprendiendo-a-ser-jefes-o-s
 upervisores
END:VEVENT
END:VCALENDAR
