BEGIN:VCALENDAR
VERSION:2.0
PRODID:-//Cedeso//NONSGML kigkonsult.se iCalcreator 2.30.10//
CALSCALE:GREGORIAN
METHOD:PUBLISH
UID:228b4a38-947d-4c53-9fd9-d49e1660d29f
X-WR-CALNAME:iCagenda
X-WR-CALDESC:Event Management Extension for Joomla!
X-WR-RELCALID:3E26604A-50F4-4449-8B3E-E4F4932D05B5
X-WR-TIMEZONE:America/Costa_Rica
BEGIN:VTIMEZONE
TZID:America/Costa_Rica
BEGIN:STANDARD
TZNAME:CST
DTSTART:20190816T060000
TZOFFSETFROM:+0000
TZOFFSETTO:-0600
END:STANDARD
END:VTIMEZONE
BEGIN:VEVENT
UID:b242a2a4-30da-4d5f-8578-10df754895c4
DTSTAMP:20260419T220500Z
CATEGORIES:Mejores Prácticas Organizacionales
CLASS:PUBLIC
DESCRIPTION;ALTREP="CID:<FFFF__=0ABBE548DFE235B58f9e8a93d@coffeebean.com>":
 e-Formadores: cómo capacitar en entornos virtuales\n \nHerramientas para d
 esarrollar capacitación en modalidad virtual\n \nObjetivo orientativo: las
  y los participantes podrán explicar\, aplicar y apreciar un conjunto inte
 grado de herramientas para desarrollar capacitación empresarial bajo la mo
 dalidad de virtual.\nContenidos y actividades:\n\nConductas de apertura\, 
 movilización grupal virtual (Mentimeter\, Jamboard y Padlet) y engagement 
 de participantes.\nDidáctica\, neurociencia y mediación virtual para forma
 dores en empresa.\nDNC basado en evidencias\, ciclo de Kolb y capacitación
  enfocada en el desempeño de personas y equipos.\nDiseño instruccional en 
 entornos virtuales: modelos ADDIE\, ARCS (motivacional) y metodologías ági
 les en capacitación.\nCambio Autodirigido: autodesarrollo e insight de bre
 chas de desempeño.\nFlipped classroom y microtraining: usted y el futuro d
 e la capacitación.\nModelos 10.20.70 y 20.25.55: feedback\, mentoraje\, co
 aching por “Reto Aprendizaje” y los 8 desafíos del aprendizaje situado.\nS
 torytelling (narrativas) en capacitación empresarial. Los enfoques didácti
 cos de avanzada para trainers expertos.\n\n \nFecha: 17\, 19\, 24 y 26 de 
 mayo 2021\nHorario: 8:30 a.m. a 10:30 m.d.\nDuración: 8 horas.\nPlataforma
 : Zoom.\nInversión: ¢80.000 + 2% de IVA por participante.\nIncluye: Materi
 al didáctico y certificado de participación en PDF.\n \nFacilitador: Enriq
 ue Margery Bertoglia.\nDoctor en Educación. TEDx speaker. Director del Ope
 n Institute. Profesor de la Maestría en Psicología del Trabajo y las Organ
 izaciones (UCR). Director de la revista empresarial Mundo VICA. Profesor i
 nvitado de las Universidades Autónoma de Querétaro (UAQ\, Méx) y UAGM (Pue
 rto Rico). Representante residente de Entrenadores del Talento (España). M
 iembro del Observatorio del Juego y del Diplomado Internacional en Pedagog
 ía del Juego. Autor de los libros “El Viaje”\, “Herramientas de Coaching”\
 , “¡Aléjate de la Escalera!” / “Step away from the ladder!” y “Complejidad
 \, transdisciplinariedad y competencias”.\n \nTodas nuestras capacitacione
 s pueden ser impartidas en su organización.\n \nInscripciones e informació
 n al e-mail info@cedeso.co.cr\nTel: (506) 2225-1007 Fax: (506) 2253-2774\n
 Visite nuestra página www.cedeso.co.cr\nfacebook.com/cedesocostarica
DTSTART:20210517T143000Z
DTEND:20210526T163000Z
GEO:00;0
LOCATION:virtual por Zoom.
ORGANIZER;CN=:info@cedeso.co.cr
SEQUENCE:1
SUMMARY:e-Formadores: cómo capacitar en entornos virtuales
TRANSP:OPAQUE
URL:https://cedeso.co.cr/eventos-anteriores/389-e-formadores-c%C3%B3mo-capa
 citar-en-entornos-virtuales
END:VEVENT
END:VCALENDAR
