BEGIN:VCALENDAR
VERSION:2.0
PRODID:-//Cedeso//NONSGML kigkonsult.se iCalcreator 2.30.10//
CALSCALE:GREGORIAN
METHOD:PUBLISH
UID:61174899-578d-480c-b04f-03544cfe7e70
X-WR-CALNAME:iCagenda
X-WR-CALDESC:Event Management Extension for Joomla!
X-WR-RELCALID:3E26604A-50F4-4449-8B3E-E4F4932D05B5
X-WR-TIMEZONE:America/Costa_Rica
BEGIN:VTIMEZONE
TZID:America/Costa_Rica
BEGIN:STANDARD
TZNAME:CST
DTSTART:20190715T060000
TZOFFSETFROM:+0000
TZOFFSETTO:-0600
END:STANDARD
END:VTIMEZONE
BEGIN:VEVENT
UID:c89c8247-3383-4ad0-b04a-805a1821dcb9
DTSTAMP:20260419T204623Z
CATEGORIES:Operaciones
CLASS:PUBLIC
DESCRIPTION;ALTREP="CID:<FFFF__=0ABBE548DFE235B58f9e8a93d@coffeebean.com>":
 Taller:\nTérminos de compra venta internacional (Incoterms) 2020\nObjetivo
 : Proporcionar a los profesionales y empresas relacionados con el comercio
  exterior\, una guía práctica que les ayude a utilizar correctamente los t
 érminos de compra venta internacional.\nContenidos:• ¿Qué son los términos
  de compra venta internacional? • ¿Para qué se utilizan? • Los términos de
  compra venta internacional uno a uno. • Los nuevos cambios en los término
 s de compra venta internacional. • Criterios para la elección del término 
 de compra venta internacional más adecuado. • Claves para el uso profesion
 al de los términos de compra venta internacional.• Casos prácticos\nFecha:
  15 de abril del 2021.Horario: 8:30 a.m. a 12:30 p.m.Duración: 4 horas.Pla
 taforma: Zoom.Inversión: ¢40.000 + 2% de IVA por participante.Incluye: Mat
 erial didáctico y certificado de participación en PDF.\nFacilitadora: Licd
 a. Yorleny Jiménez RojasGraduada con honores de la Universidad de Costa Ri
 ca en la carrera de Administración Aduanera y Comercio Exterior. Certifica
 da como especialista en Supply Chain de la Universidad de Nebrija en Españ
 a.Actualmente consultora independiente con 20 años de experiencia en manej
 o y desarrollo de procesos de internacionalización y logística especialmen
 te para el sector agrícola.Especialista en desarrollo de acompañamientos e
 mpresariales en temas de importación\, exportación\, logística internacion
 al\, entre otros.Profesora de la Universidad de Costa Rica\, Universidad F
 UNDEPOS y capacitadora activa en diferentes Cámaras que agremia exportador
 es\, importadores\, empresas PYMES\, entidades estatales\, colegios profes
 ionales\, entre otros.\nTodas nuestras capacitaciones pueden ser impartida
 s en su organización\nInscripciones e información al e-mail info@cedeso.co
 .crTel: (506) 2225-1007 · Tel/Fax: (506) 2253-2774Visite nuestra página ww
 w.cedeso.co.crfacebook.com/cedesocostarica
DTSTART:20210415T143000Z
DTEND:20210415T183000Z
GEO:00;0
LOCATION:Virtual por Zoom
ORGANIZER;CN=:info@cedeso.co.cr
SEQUENCE:1
SUMMARY:Términos de compra venta internacional (Incoterms) 2020
TRANSP:OPAQUE
URL:https://cedeso.co.cr/eventos-anteriores/391-t%C3%A9rminos-de-compra-ven
 ta-internacional-incoterms-2020
END:VEVENT
END:VCALENDAR
