BEGIN:VCALENDAR
VERSION:2.0
PRODID:-//Cedeso//NONSGML kigkonsult.se iCalcreator 2.30.10//
CALSCALE:GREGORIAN
METHOD:PUBLISH
UID:600c44be-82a8-48d9-8a16-f93798cc70c3
X-WR-CALNAME:iCagenda
X-WR-CALDESC:Event Management Extension for Joomla!
X-WR-RELCALID:3E26604A-50F4-4449-8B3E-E4F4932D05B5
X-WR-TIMEZONE:America/Costa_Rica
BEGIN:VTIMEZONE
TZID:America/Costa_Rica
BEGIN:STANDARD
TZNAME:CST
DTSTART:20190721T060000
TZOFFSETFROM:+0000
TZOFFSETTO:-0600
END:STANDARD
END:VTIMEZONE
BEGIN:VEVENT
UID:db542a94-e590-4881-a88f-751ed7d2770e
DTSTAMP:20260419T215800Z
CATEGORIES:Operaciones
CLASS:PUBLIC
DESCRIPTION;ALTREP="CID:<FFFF__=0ABBE548DFE235B58f9e8a93d@coffeebean.com>":
 Seminario:\nInventario cíclico\nUn método para mejorar continuamente\nObje
 tivo del seminario: Presentar a los participantes un método práctico y pro
 bado para implementar un efectivo control de su inventario físico que gara
 ntice exactitudes superiores al 95%\nTemario: • Control de inventario físi
 co eslabón entre la bodega y la administración de inventarios. • Clasifica
 ción Abc. • Metodología de toma del inventario físico. • Qué es y cómo se 
 implementa un inventario cíclico. • Control preventivo de pérdidas y varia
 ciones de inventario. • Implementación de un sistema de mejora continua ví
 a inventario cíclico.\nFecha: 21 y 22 de abril 2021.Horario: 8:30 a.m. a 1
 2:30 m.d.Duración: 8 horas.Modalidad virtual por Zoom.Inversión: ¢80.000 +
  2% de IVA por participante.Incluye: Material y certificado de participaci
 ón en PDF.\nFacilitador: Ing. Víctor León\, Mg.Ingeniero Industrial con es
 tudios de Postgrado en Ingeniería Industrial\, Gerencia de RRHH y Dinámica
  de Grupos. Experiencia en las áreas de Distribución\, Atención al Cliente
  y Planificación de la Producción\, Manejo de Inventarios\, Almacenes\, Co
 stos y Elaboración de Proyectos de Inversión. Certificación como conferenc
 ista internacional. Miembro de la asociación de conferencistas Hispanos. C
 apacitador en áreas gerenciales y técnicas\, con 20 años de experiencia.\n
 Todas nuestras capacitaciones pueden ser impartidas en su organización.\nI
 nscripciones e Información al e-mail info@cedeso.co.crTel: (506) 2225-1007
  · Fax: (506) 2253-2774Visite nuestra página www.cedeso.co.crfacebook.com/
 cedesocostarica
DTSTART:20210421T143000Z
DTEND:20210422T183000Z
GEO:00;0
LOCATION:virtual por Zoom.
ORGANIZER;CN=:info@cedeso.co.cr
SEQUENCE:1
SUMMARY:Inventario cíclico
TRANSP:OPAQUE
URL:https://cedeso.co.cr/eventos-anteriores/392-inventario-c%C3%ADclico
END:VEVENT
END:VCALENDAR
