BEGIN:VCALENDAR
VERSION:2.0
PRODID:-//Cedeso//NONSGML kigkonsult.se iCalcreator 2.30.10//
CALSCALE:GREGORIAN
METHOD:PUBLISH
UID:f3f4d4ff-f89f-421b-a57b-0ba01dc40a25
X-WR-CALNAME:iCagenda
X-WR-CALDESC:Event Management Extension for Joomla!
X-WR-RELCALID:3E26604A-50F4-4449-8B3E-E4F4932D05B5
X-WR-TIMEZONE:America/Costa_Rica
BEGIN:VTIMEZONE
TZID:America/Costa_Rica
BEGIN:STANDARD
TZNAME:CST
DTSTART:20190706T060000
TZOFFSETFROM:+0000
TZOFFSETTO:-0600
END:STANDARD
END:VTIMEZONE
BEGIN:VEVENT
UID:bef1cd9a-d0bf-43ad-bcc1-1ec2a668f9e3
DTSTAMP:20260419T204538Z
CATEGORIES:Mejores Prácticas Organizacionales
CLASS:PUBLIC
DESCRIPTION;ALTREP="CID:<FFFF__=0ABBE548DFE235B58f9e8a93d@coffeebean.com>":
 Taller:\nManejo de las Prioridades\nCon doble certificación: una por cada 
 taller al que asista\, más un Certificado del Programa de Desarrollo de la
  Agilidad (PDA)\, para quien asista a los tres talleres.\n1. Manejo de las
  prioridades2. Sentido de urgencia3. Capacidad de ejecución\nContenidos:• 
 ¡Priorizar! A trabajar con las 10 capacidades que la componen.• Diseño de 
 plan de acción personal con las 10 capacidades.• Plan 1-3-9: distinciones 
 y manejo de lo urgente y lo importante (con tema nuevo: “1-3-9” en equipos
  remotos).• Reuniones ágiles: reglas de juego\, comportamientos positivos 
 y obstáculos que debemos manejar.\nFecha: 6 y 8 de abril del 2021.Horario:
  2:00 p.m. a 4:00 p.m.Duración: 4 horas.Plataforma: Zoom.Inversión: ¢40.00
 0 + 2% de IVA por participante.Incluye: Material didáctico y certificado d
 e participación en PDF.\nFacilitador: Dr. Enrique Margery- Doctor en Educa
 ción y TEDx speaker.- Profesor de la Maestría en Psicología del Trabajo en
  la Universidad de Costa Rica. Profesor invitado de la Universidad de Quer
 étaro (UAQ\, México) y la Universidad UAGM (Puerto Rico).- Diseña capacita
 ción para desarrollo de soft skills basado en aprendizaje por la experienc
 ia\, GBL y “reto-aprendizaje”.- Coach especialista en ciencia de la colabo
 ración y manejo de top performers.- Diseña herramientas para medir el Sent
 ido de Urgencia\, el “termómetro de la colaboración” y la rentabilidad de 
 la capacitación\, entre otros.- Autor de los libros “Complejidad y Compete
 ncias”\, “Herramientas de Coaching”\, “El Viaje” (Editorial Norma\; uno de
  los primeros libros de psicología positiva publicados) y 'Complejidad\, T
 ransdisciplinariedad y Compentencias'\nTodas nuestras capacitaciones puede
 n ser impartidas en su organización\nInscripciones e Información al e-mail
  info@cedeso.co.crTel: (506) 2225-1007 · Fax: (506) 2253-2774Visite nuestr
 a página www.cedeso.co.crfacebook.com/cedesocostarica
DTSTART:20210406T200000Z
DTEND:20210408T220000Z
GEO:00;0
LOCATION:virtual por Zoom.
ORGANIZER;CN=:info@cedeso.co.cr
SEQUENCE:1
SUMMARY:Manejo de las Prioridades
TRANSP:OPAQUE
URL:https://cedeso.co.cr/eventos-anteriores/394-manejo-de-las-prioridades
END:VEVENT
END:VCALENDAR
