BEGIN:VCALENDAR
VERSION:2.0
PRODID:-//Cedeso//NONSGML kigkonsult.se iCalcreator 2.30.10//
CALSCALE:GREGORIAN
METHOD:PUBLISH
UID:ef0fea8b-0eee-4c77-8a9d-4577fcca10ef
X-WR-CALNAME:iCagenda
X-WR-CALDESC:Event Management Extension for Joomla!
X-WR-RELCALID:3E26604A-50F4-4449-8B3E-E4F4932D05B5
X-WR-TIMEZONE:America/Costa_Rica
BEGIN:VTIMEZONE
TZID:America/Costa_Rica
BEGIN:STANDARD
TZNAME:CST
DTSTART:20190720T060000
TZOFFSETFROM:+0000
TZOFFSETTO:-0600
END:STANDARD
END:VTIMEZONE
BEGIN:VEVENT
UID:11d2e1a1-6ec2-4a3e-8d72-62d866827c0a
DTSTAMP:20260419T215807Z
CATEGORIES:Mejores Prácticas Organizacionales
CLASS:PUBLIC
DESCRIPTION;ALTREP="CID:<FFFF__=0ABBE548DFE235B58f9e8a93d@coffeebean.com>":
 Taller:\nCapacidad de ejecución\nCon doble certificación: una por cada tal
 ler al que asista\, más un Certificado del Programa de Desarrollo de la Ag
 ilidad (PDA)\, para quien asista a los tres talleres.\n1. Manejo de las pr
 ioridades2. Sentido de urgencia3. Capacidad de ejecución\nContenidos:• Las
  nueve capacidades asociadas con la Agilidad en personas\, grupos y organi
 zaciones.• Hablando claro de las fallas en la ejecución: el triángulo evit
 ación-disciplina-placidez.• Guías para la acción en Liderazgo para la Ejec
 ución.• Factores de éxito para la ejecución organizacional: comportamiento
 s alineados y desalineados con las capabilities\, sincronización y alineam
 iento.\nFecha: 20 y 22 de abril del 2021.Horario: 2:00 p.m. a 4:00 p.m.Dur
 ación: 4 horas.Plataforma: Zoom.Inversión: ¢40.000 + 2% de IVA por partici
 pante.Incluye: Material didáctico y certificado de participación en PDF.\n
 Facilitador: Dr. Enrique Margery- Doctor en Educación y TEDx speaker.- Pro
 fesor de la Maestría en Psicología del Trabajo en la Universidad de Costa 
 Rica. Profesor invitado de la Universidad de Querétaro (UAQ\, México) y la
  Universidad UAGM (Puerto Rico).- Diseña capacitación para desarrollo de s
 oft skills basado en aprendizaje por la experiencia\, GBL y “reto-aprendiz
 aje”.- Coach especialista en ciencia de la colaboración y manejo de top pe
 rformers.- Diseña herramientas para medir el Sentido de Urgencia\, el “ter
 mómetro de la colaboración” y la rentabilidad de la capacitación\, entre o
 tros.- Autor de los libros “Complejidad y Competencias”\, “Herramientas de
  Coaching”\, “El Viaje” (Editorial Norma\; uno de los primeros libros de p
 sicología positiva publicados) y 'Complejidad\, Transdisciplinariedad y Co
 mpentencias'\nTodas nuestras capacitaciones pueden ser impartidas en su or
 ganización\nInscripciones e Información al e-mail info@cedeso.co.crTel: (5
 06) 2225-1007 · Fax: (506) 2253-2774Visite nuestra página www.cedeso.co.cr
 facebook.com/cedesocostarica
DTSTART:20210420T200000Z
DTEND:20210422T220000Z
GEO:00;0
LOCATION:virtual por Zoom.
ORGANIZER;CN=:info@cedeso.co.cr
SEQUENCE:1
SUMMARY:Capacidad de ejecución
TRANSP:OPAQUE
URL:https://cedeso.co.cr/eventos-anteriores/396-capacidad-de-ejecuci%C3%B3n
END:VEVENT
END:VCALENDAR
