BEGIN:VCALENDAR
VERSION:2.0
PRODID:-//Cedeso//NONSGML kigkonsult.se iCalcreator 2.30.10//
CALSCALE:GREGORIAN
METHOD:PUBLISH
UID:35b41be9-779d-4fa1-aa78-f377eae20491
X-WR-CALNAME:iCagenda
X-WR-CALDESC:Event Management Extension for Joomla!
X-WR-RELCALID:3E26604A-50F4-4449-8B3E-E4F4932D05B5
X-WR-TIMEZONE:America/Costa_Rica
BEGIN:VTIMEZONE
TZID:America/Costa_Rica
BEGIN:STANDARD
TZNAME:CST
DTSTART:20190717T060000
TZOFFSETFROM:+0000
TZOFFSETTO:-0600
END:STANDARD
END:VTIMEZONE
BEGIN:VEVENT
UID:a0769aca-2322-4a1a-b125-a7862e090867
DTSTAMP:20260419T215414Z
CATEGORIES:Mejores Prácticas Organizacionales
CLASS:PUBLIC
DESCRIPTION;ALTREP="CID:<FFFF__=0ABBE548DFE235B58f9e8a93d@coffeebean.com>":
 Executive CoachingCertificación en el Modelo Europeo - Método Socrático\n 
 \nInformación completa:\nhttps://1drv.ms/w/s!An4gRr3NpbtBjdcPG88YpB7cSNWWI
 A?e=4eNq1a\n \nFechas:Módulo 1: 17 y 24 abril - 9 a.m. a 12 m.d.Módulo 2: 
 22 y 29 mayo - 9 a.m. a 12 m.d.Módulo 3: 12 y 19 junio - 9 a.m. a 12 m.d.M
 ódulo 4: 3 y 10 julio - 9 a.m. a 12 m.d.Módulo 5: 24 y 31 julio - 9 a.m. a
  12 m.d.\nInversión: US$990 + 2% de IVA por participante.\nResultados al f
 inalizar el programa:• Adquirir habilidades de comunicación que posibilite
 n el desarrollo laboral. • Aplicación inmediata de lo aprendido en la vida
  cotidiana.• Desarrollar la capacidad de liderazgo y trabajo en equipo. • 
 Expandir la creatividad para el desarrollo de los proyectos. • Certificaci
 ón de Europa Campus de Alemania.• Networking.\nTemario: - Las competencias
  del Executive Coach- Desarrollo de visión estratégica- Toma de decisiones
 - Detectar comportamientos- Cultura de alto rendimiento- Efectividad y res
 ultados- Comunicación dinámica- Roles para entrenar equipos- Herramientas 
 de asertividad gerencial- Manejo de conflictos en las relaciones\nCaracter
 ísticas:• Certificación grupal • Duración del curso: 60 horas • 30 horas p
 resenciales• 20 horas de videos y lecturas • 10 horas trabajo de graduació
 n y revisión de trabajo individual• Master Plan o Proyecto Socrático • Teó
 rico 30% práctico 70%\nIncluye: - Diploma de Certificación Internacional -
  Herramientas coaching- Manual del curso- Libro “Marketing Personal” - Guí
 a de Ejercicios\n \nInscripciones a: info@cedeso.co.cr\nTeléfono: +506 222
 5-1007\n 
DTSTART:20210417T150000Z
DTEND:20210731T180000Z
GEO:00;0
LOCATION:Virtual
ORGANIZER;CN=:info@cedeso.co.cr
SEQUENCE:1
SUMMARY:Executive Coaching
TRANSP:OPAQUE
URL:https://cedeso.co.cr/eventos-anteriores/400-executive-coaching
END:VEVENT
END:VCALENDAR
