BEGIN:VCALENDAR
VERSION:2.0
PRODID:-//Cedeso//NONSGML kigkonsult.se iCalcreator 2.30.10//
CALSCALE:GREGORIAN
METHOD:PUBLISH
UID:880cc654-eed9-4a07-9ce3-35db966992ed
X-WR-CALNAME:iCagenda
X-WR-CALDESC:Event Management Extension for Joomla!
X-WR-RELCALID:3E26604A-50F4-4449-8B3E-E4F4932D05B5
X-WR-TIMEZONE:America/Costa_Rica
BEGIN:VTIMEZONE
TZID:America/Costa_Rica
BEGIN:STANDARD
TZNAME:CST
DTSTART:20190803T060000
TZOFFSETFROM:+0000
TZOFFSETTO:-0600
END:STANDARD
END:VTIMEZONE
BEGIN:VEVENT
UID:54435dec-ef15-44ea-984c-5f6bea684b5b
DTSTAMP:20260419T220940Z
CATEGORIES:Mejores Prácticas Organizacionales
CLASS:PUBLIC
DESCRIPTION;ALTREP="CID:<FFFF__=0ABBE548DFE235B58f9e8a93d@coffeebean.com>":
 Webinar\nHabilidades gerenciales de supervisión\nDescripción de la activid
 ad:En virtud de la posición clave que ocupa todo supervisor en su organiza
 ción\, es necesario que desarrolle su capacidad de gestión de manera conti
 nua a fin de mejorar sus habilidades de tomar mejores decisiones\, crear y
  liderar equipos de trabajo con orientación a resultados\, favorecer la co
 municación interpersonal y administrar los conflictos mediante la negociac
 ión y la búsqueda del beneficio mutuo.Las habilidades de la supervisión en
  época de pandemia deben de estar en la posibilidad de provocar estrategia
 s participativas\, proactivas y propiciar un clima organizacional virtual 
 saludable para todos los colaboradores y de esta forma lograr los objetivo
 s fijados.\nObjetivo general:Analizar\, modificar y virtualizar las habili
 dades gerenciales de supervisión de cara a la pandemia que asegure su alto
  desempeño y el logro de los objetivos de la organización.\nObjetivos espe
 cíficos:Identificar las habilidades gerenciales de supervisión que deben s
 er modificadas para el buen desempeño del supervisor en época de pandemia.
 Definir la forma de virtualizar las habilidades gerenciales de supervisión
 .Definir un plan de acción para desarrollar habilidades gerenciales de sup
 ervisión.\nDirigido a:A todos los involucrados y responsables de alinear l
 a organización a una nueva visión para contrarrestar la crisis generada po
 r la pandemia.\nFecha: 4 y 6 de mayo del 2021.Horario: 8:30 a.m. a 11:00 a
 .m.Duración total: 5 horas.Modalidad: Virtual por plataforma Zoom.Inversió
 n: ¢75.000 + 2% de IVA por participante.Incluye: Material y certificado de
  participación en PDF.\nFacilitador: MBA Mario Miño.Ingeniero mecánico con
  un MBA con énfasis en Banca y Finanzas\, cuenta con experiencia profesion
 al en diferentes industrias como la eléctrica\, química\, de la construcci
 ón\, consultoría y comercial.Ha laborado para compañías multinacionales y 
 locales\, tiene amplio conocimiento en áreas de Manufactura\, Logística\, 
 Supply Chain\, Sistemas de información\, Mercadeo\, Ventas y Finanzas.Con 
 experiencia en administración de procesos de Startup\, se ha desenvuelto e
 n el mercado centroamericano y en los últimos años ha ocupado la posición 
 de Gerente General.\nTodas nuestras capacitaciones pueden ser impartidas e
 n su organización.\nInscripciones e información al e-mail info@cedeso.co.c
 rTel: (506) 2225-1007 Fax: (506) 2253-2774Visite nuestra página www.cedeso
 .co.crfacebook.com/cedesocostarica
DTSTART:20210504T143000Z
DTEND:20210506T170000Z
GEO:00;0
LOCATION:virtual por Zoom.
ORGANIZER;CN=:info@cedeso.co.cr
SEQUENCE:1
SUMMARY:Habilidades gerenciales de supervisión
TRANSP:OPAQUE
URL:https://cedeso.co.cr/eventos-anteriores/401-habilidades-gerenciales-de-
 supervisi%C3%B3n
END:VEVENT
END:VCALENDAR
