BEGIN:VCALENDAR
VERSION:2.0
PRODID:-//Cedeso//NONSGML kigkonsult.se iCalcreator 2.30.10//
CALSCALE:GREGORIAN
METHOD:PUBLISH
UID:e97638e2-d645-4652-9613-3452462421d6
X-WR-CALNAME:iCagenda
X-WR-CALDESC:Event Management Extension for Joomla!
X-WR-RELCALID:3E26604A-50F4-4449-8B3E-E4F4932D05B5
X-WR-TIMEZONE:America/Costa_Rica
BEGIN:VTIMEZONE
TZID:America/Costa_Rica
BEGIN:STANDARD
TZNAME:CST
DTSTART:20190810T060000
TZOFFSETFROM:+0000
TZOFFSETTO:-0600
END:STANDARD
END:VTIMEZONE
BEGIN:VEVENT
UID:34620562-e7aa-4b3c-9fd8-6f9fa420d4ce
DTSTAMP:20260419T233339Z
CATEGORIES:Mejores Prácticas Organizacionales
CLASS:PUBLIC
DESCRIPTION;ALTREP="CID:<FFFF__=0ABBE548DFE235B58f9e8a93d@coffeebean.com>":
 Taller:\nCómo dar un buen Feedback\n \nCon doble certificación: una por ca
 da taller al que asista\, más un Certificado del Programa de Herramientas 
 de Retroalimentación para Managers\, para quien asista a los tres talleres
 .\n1. Cómo dar un buen Feedback 2. Coaching del Desempeño 3. Retroalimenta
 ción positiva\nContenidos:• El ciclo del desempeño (Alinear\, acompañar\, 
 evaluar y retroalimentar. La ciencia y arte de dar una retroalimentación q
 ue funcione. Manejo de casos especiales: retroalimentar a top performers\,
  fijar límites\, …• Modos directivos y guiones para manejo de los 4 tipos 
 de colaborador.• Neurociencia\, comunicación y SEP: mejores prácticas y co
 mportamientos asociados con un feedback exitoso.• Feedback Serious Play©: 
 11 estrategias esenciales para poner en acción por cada participante.\nFec
 ha: 11 y 13 de mayo 2021.Horario: 8:30 a.m. a 10:30 a.m.Duración: 4 horas.
 Plataforma: Zoom.Inversión: ¢60.000 + 2% de IVA por participante.Incluye: 
 Material didáctico y certificado de participación en PDF.\nFacilitador: Dr
 . Enrique Margery- Doctor en Educación y TEDx speaker.- Profesor de la Mae
 stría en Psicología del Trabajo en la Universidad de Costa Rica. Profesor 
 invitado de la Universidad de Querétaro (UAQ\, México) y la Universidad UA
 GM (Puerto Rico).- Diseña capacitación para desarrollo de soft skills basa
 do en aprendizaje por la experiencia\, GBL y “reto-aprendizaje”.- Coach es
 pecialista en ciencia de la colaboración y manejo de top performers.- Dise
 ña herramientas para medir el Sentido de Urgencia\, el “termómetro de la c
 olaboración” y la rentabilidad de la capacitación\, entre otros.- Autor de
  los libros “Complejidad y Competencias”\, “Herramientas de Coaching”\, “E
 l Viaje” (Editorial Norma\; uno de los primeros libros de psicología posit
 iva publicados) y 'Complejidad\, Transdisciplinariedad y Compentencias'\nT
 odas nuestras capacitaciones pueden ser impartidas en su organización\nIns
 cripciones e Información al e-mail info@cedeso.co.crTel: (506) 2225-1007 ·
  Fax: (506) 2253-2774Visite nuestra página www.cedeso.co.crfacebook.com/ce
 desocostarica\n 
DTSTART:20210511T143000Z
DTEND:20210513T163000Z
GEO:00;0
LOCATION:virtual por Zoom.
ORGANIZER;CN=:info@cedeso.co.cr
SEQUENCE:1
SUMMARY:Cómo dar un buen Feedback
TRANSP:OPAQUE
URL:https://cedeso.co.cr/eventos-anteriores/402-c%C3%B3mo-dar-un-buen-feedb
 ack
END:VEVENT
END:VCALENDAR
