BEGIN:VCALENDAR
VERSION:2.0
PRODID:-//Cedeso//NONSGML kigkonsult.se iCalcreator 2.30.10//
CALSCALE:GREGORIAN
METHOD:PUBLISH
UID:71a10107-573a-4904-8131-644aad768f95
X-WR-CALNAME:iCagenda
X-WR-CALDESC:Event Management Extension for Joomla!
X-WR-RELCALID:3E26604A-50F4-4449-8B3E-E4F4932D05B5
X-WR-TIMEZONE:America/Costa_Rica
BEGIN:VTIMEZONE
TZID:America/Costa_Rica
BEGIN:STANDARD
TZNAME:CST
DTSTART:20190817T060000
TZOFFSETFROM:+0000
TZOFFSETTO:-0600
END:STANDARD
END:VTIMEZONE
BEGIN:VEVENT
UID:de616ea2-6ad4-482f-92bc-75deea57a506
DTSTAMP:20260419T215600Z
CATEGORIES:Mejores Prácticas Organizacionales
CLASS:PUBLIC
DESCRIPTION;ALTREP="CID:<FFFF__=0ABBE548DFE235B58f9e8a93d@coffeebean.com>":
 Taller:\nCoaching del Desempeño\n \nCon doble certificación: una por cada 
 taller al que asista\, más un Certificado del Programa de Herramientas de 
 Retroalimentación para Managers\, para quien asista a los tres talleres.\n
 1. Cómo dar un buen Feedback 2. Coaching del Desempeño 3. Retroalimentació
 n positiva\nContenidos:• Cuatro estrategias básicas de performance coachin
 g.• Intervenciones específicas para fortalecer la internalidad y la auto e
 ficacia de los colaboradores. • La estrategia para volver las debilidades 
 irrelevantes: las cuatro estrategias del coaching basado en fortalezas.• C
 ampo de prácticas: modelos PRACTICE1\, “Escenario de reemplazo”2 e Indagac
 ión Motivacional3.\nFecha: 18 y 20 de mayo 2021.Horario: 8:30 a.m. a 10:30
  a.m.Duración: 4 horas.Plataforma: Zoom.Inversión: ¢60.000 + 2% de IVA por
  participante.Incluye: Material didáctico y certificado de participación e
 n PDF.\nFacilitador: Dr. Enrique Margery- Doctor en Educación y TEDx speak
 er.- Profesor de la Maestría en Psicología del Trabajo en la Universidad d
 e Costa Rica. Profesor invitado de la Universidad de Querétaro (UAQ\, Méxi
 co) y la Universidad UAGM (Puerto Rico).- Diseña capacitación para desarro
 llo de soft skills basado en aprendizaje por la experiencia\, GBL y “reto-
 aprendizaje”.- Coach especialista en ciencia de la colaboración y manejo d
 e top performers.- Diseña herramientas para medir el Sentido de Urgencia\,
  el “termómetro de la colaboración” y la rentabilidad de la capacitación\,
  entre otros.- Autor de los libros “Complejidad y Competencias”\, “Herrami
 entas de Coaching”\, “El Viaje” (Editorial Norma\; uno de los primeros lib
 ros de psicología positiva publicados) y 'Complejidad\, Transdisciplinarie
 dad y Compentencias'\nTodas nuestras capacitaciones pueden ser impartidas 
 en su organización\nInscripciones e Información al e-mail info@cedeso.co.c
 rTel: (506) 2225-1007 · Fax: (506) 2253-2774Visite nuestra página www.cede
 so.co.crfacebook.com/cedesocostarica
DTSTART:20210518T143000Z
DTEND:20210520T163000Z
GEO:00;0
LOCATION:virtual por Zoom.
ORGANIZER;CN=:info@cedeso.co.cr
SEQUENCE:1
SUMMARY:Coaching del Desempeño
TRANSP:OPAQUE
URL:https://cedeso.co.cr/eventos-anteriores/403-coaching-del-desempe%C3%B1o
END:VEVENT
END:VCALENDAR
