BEGIN:VCALENDAR
VERSION:2.0
PRODID:-//Cedeso//NONSGML kigkonsult.se iCalcreator 2.30.10//
CALSCALE:GREGORIAN
METHOD:PUBLISH
UID:d1e8bbde-416a-4743-b5ac-ce0bcbe416d0
X-WR-CALNAME:iCagenda
X-WR-CALDESC:Event Management Extension for Joomla!
X-WR-RELCALID:3E26604A-50F4-4449-8B3E-E4F4932D05B5
X-WR-TIMEZONE:America/Costa_Rica
BEGIN:VTIMEZONE
TZID:America/Costa_Rica
BEGIN:STANDARD
TZNAME:CST
DTSTART:20190824T060000
TZOFFSETFROM:+0000
TZOFFSETTO:-0600
END:STANDARD
END:VTIMEZONE
BEGIN:VEVENT
UID:14878368-05b0-4af3-bded-39c114efd016
DTSTAMP:20260419T220156Z
CATEGORIES:Mejores Prácticas Organizacionales
CLASS:PUBLIC
DESCRIPTION;ALTREP="CID:<FFFF__=0ABBE548DFE235B58f9e8a93d@coffeebean.com>":
 Taller:\nRetroalimentación positiva\nCon doble certificación: una por cada
  taller al que asista\, más un Certificado del Programa de Herramientas de
  Retroalimentación para Managers\, para quien asista a los tres talleres.
 \n1. Cómo dar un buen Feedback 2. Coaching del Desempeño 3. Retroalimentac
 ión positiva\nContenidos:• ¿Cómo dar una retroalimentación positiva y supe
 rar el “bloqueo comunicativo”?• Ventajas de la retroalimentación basada en
  fortalezas: la “Regla 3 a 1” del mejormiento basado en fortalezas con res
 pecto al mejoramiento enfocado en corregir debilidades.• Combate al sesgo 
 negativo y estrategias para el desarrollo de fortalezas.• Modelo PEA\, neu
 rociencia y feedback positivo: aplicar la “entrevista apreciativa” para de
 finir el “ADN del éxito”.• Entrenamiento en el patrón de comportamientos p
 ara dar una retroalimentación positiva (feedback apreciativo).\nFecha: 25 
 y 27 de mayo 2021.Horario: 8:30 a.m. a 10:30 a.m.Duración: 4 horas.Platafo
 rma: Zoom.Inversión: ¢60.000 + 2% de IVA por participante.Incluye: Materia
 l didáctico y certificado de participación en PDF.\nFacilitador: Dr. Enriq
 ue Margery- Doctor en Educación y TEDx speaker.- Profesor de la Maestría e
 n Psicología del Trabajo en la Universidad de Costa Rica. Profesor invitad
 o de la Universidad de Querétaro (UAQ\, México) y la Universidad UAGM (Pue
 rto Rico).- Diseña capacitación para desarrollo de soft skills basado en a
 prendizaje por la experiencia\, GBL y “reto-aprendizaje”.- Coach especiali
 sta en ciencia de la colaboración y manejo de top performers.- Diseña herr
 amientas para medir el Sentido de Urgencia\, el “termómetro de la colabora
 ción” y la rentabilidad de la capacitación\, entre otros.- Autor de los li
 bros “Complejidad y Competencias”\, “Herramientas de Coaching”\, “El Viaje
 ” (Editorial Norma\; uno de los primeros libros de psicología positiva pub
 licados) y 'Complejidad\, Transdisciplinariedad y Compentencias'\nTodas nu
 estras capacitaciones pueden ser impartidas en su organización\nInscripcio
 nes e Información al e-mail info@cedeso.co.crTel: (506) 2225-1007 · Fax: (
 506) 2253-2774Visite nuestra página www.cedeso.co.crfacebook.com/cedesocos
 tarica
DTSTART:20210525T143000Z
DTEND:20210527T163000Z
GEO:00;0
LOCATION:virtual por Zoom.
ORGANIZER;CN=:info@cedeso.co.cr
SEQUENCE:1
SUMMARY:Retroalimentación positiva
TRANSP:OPAQUE
URL:https://cedeso.co.cr/eventos-anteriores/404-retroalimentaci%C3%B3n-posi
 tiva
END:VEVENT
END:VCALENDAR
