BEGIN:VCALENDAR
VERSION:2.0
PRODID:-//Cedeso//NONSGML kigkonsult.se iCalcreator 2.30.10//
CALSCALE:GREGORIAN
METHOD:PUBLISH
UID:50ca9448-2d21-4c90-a2ec-1f869657981b
X-WR-CALNAME:iCagenda
X-WR-CALDESC:Event Management Extension for Joomla!
X-WR-RELCALID:3E26604A-50F4-4449-8B3E-E4F4932D05B5
X-WR-TIMEZONE:America/Costa_Rica
BEGIN:VTIMEZONE
TZID:America/Costa_Rica
BEGIN:STANDARD
TZNAME:CST
DTSTART:20190806T060000
TZOFFSETFROM:+0000
TZOFFSETTO:-0600
END:STANDARD
END:VTIMEZONE
BEGIN:VEVENT
UID:96fb555b-9ec6-41fb-9912-4436a67c4a4f
DTSTAMP:20260419T220930Z
CATEGORIES:Mejores Prácticas Organizacionales
CLASS:PUBLIC
DESCRIPTION;ALTREP="CID:<FFFF__=0ABBE548DFE235B58f9e8a93d@coffeebean.com>":
 Taller:\n¿Hablando se entiende la gente?\nEntrenamiento práctico en Comuni
 cación Asertiva\nDirigido a: Colaboradores de Recursos Humanos\, Gerentes\
 , jefaturas\, supervisores\, líderes de equipos de trabajo. En general\, c
 ualquier persona que desee identificar su estilo de comunicación y entrena
 rse en habilidades de comunicación y escucha efectiva como base para estab
 lecer relaciones personales sanas y respetuosas a nivel personal y laboral
 .\nObjetivo general: Al finalizar este taller el participante estará en co
 ndiciones de autoevaluar el grado de eficacia en su estilo de comunicación
  predominante\, así como entrenarse en técnicas de comunicación y escucha 
 efectiva\, pudiendo aplicar cambios inmediatos en la forma de transmitir y
  recibir mensajes en las relaciones que establece a nivel personal y labor
 al.\nContenidos: • ¿Qué es y cómo se implementa la comunicación asertiva? 
 • Auto evaluación de la eficacia en la comunicación. • La comunicación más
  allá de las palabras. • Venciendo las barreras entre el que escucha y el 
 que habla. • Estrategias para lograr una escucha activa y eficaz. • Estrat
 egias para favorecer que el otro le escuche de manera efectiva. • Resoluci
 ón de conflictos a través de una escucha eficaz y una comunicación asertiv
 a. • El arte de dar retroalimentación.\nFecha: 7 y 14 de mayo del 2021.Hor
 ario: 1:00 p.m. a 5:00 p.m.Duración: 8 horas.Plataforma: Zoom.Inversión: ¢
 80.000 + 2% IVA por participante.Incluye: Material y certificado de partic
 ipación en PDF.\nFacilitadora: Licda. Gina Sequeira. Psicóloga\, certifica
 da en Business Coaching\, con posgrado de Gamificación y Técnicas de Ludif
 icación. Estudios de posgrado en Evaluación y Gerencia de Proyectos. Socia
  Fundadora de Skills Lab. Más de 15 años de experiencia en el diseño de pr
 ocesos de capacitación vinculados al desarrollo de habilidades blandas y e
 l fortalecimiento de equipos de alto desempeño. Conferencista nacional e i
 nternacional.\nTodas nuestras capacitaciones pueden ser impartidas en su o
 rganización.\nInscripciones e Información al e-mail info@cedeso.co.crTel: 
 (506) 2225-1007 Fax: (506) 2253-2774Visite nuestra página www.cedeso.co.cr
 facebook.com/cedesocostarica
DTSTART:20210507T190000Z
DTEND:20210514T230000Z
GEO:00;0
LOCATION:virtual por Zoom.
ORGANIZER;CN=:info@cedeso.co.cr
SEQUENCE:1
SUMMARY:¿Hablando se entiende la gente?
TRANSP:OPAQUE
URL:https://cedeso.co.cr/eventos-anteriores/405-%C2%BFhablando-se-entiende-
 la-gente
END:VEVENT
END:VCALENDAR
