BEGIN:VCALENDAR
VERSION:2.0
PRODID:-//Cedeso//NONSGML kigkonsult.se iCalcreator 2.30.10//
CALSCALE:GREGORIAN
METHOD:PUBLISH
UID:b25bb1b6-17d1-488f-af69-a58426b7a4df
X-WR-CALNAME:iCagenda
X-WR-CALDESC:Event Management Extension for Joomla!
X-WR-RELCALID:3E26604A-50F4-4449-8B3E-E4F4932D05B5
X-WR-TIMEZONE:America/Costa_Rica
BEGIN:VTIMEZONE
TZID:America/Costa_Rica
BEGIN:STANDARD
TZNAME:CST
DTSTART:20190816T060000
TZOFFSETFROM:+0000
TZOFFSETTO:-0600
END:STANDARD
END:VTIMEZONE
BEGIN:VEVENT
UID:e7082013-325d-4b6d-93af-a2e3518a0b45
DTSTAMP:20260419T220541Z
CATEGORIES:Mejores Prácticas Organizacionales
CLASS:PUBLIC
DESCRIPTION;ALTREP="CID:<FFFF__=0ABBE548DFE235B58f9e8a93d@coffeebean.com>":
 Taller:\n \nPresentaciones ejecutivas (para la nueva normalidad)\n \n \nOb
 jetivo orientativo: explicar\, aplicar y apreciar herramientas cruciales d
 e presentaciones en contextos difíciles\, equipos remotos y modos presenci
 al y en línea. Con pizarra colaborativa y ejercicios “aprender haciendo”.
 \n \nContenidos y actividades:\n\nTécnicas para manejo del pánico escénico
 \, en un mundo de equipos estresados\, virus e incertidumbre. Nueve guías 
 para la acción\, para salir adelante.\nMentimeter y apps para movilizar la
  atención y el engagement grupal en presentaciones online o presenciales.
 \nConductas de apertura y mediación: qué hacer y qué no hacer en presentac
 iones top.\nBootcamp de presentaciones: dicción\, estrategias de influenci
 a\, manejo por tipo de grupos (alta dirección\, ventas\, IS\, mandos medio
 s)...\nOjo: evite saturar a su público y facilite la toma de decisiones\, 
 aplicando las 4 reglas de la teoría de la carga cognitiva.\nStorytelling y
  Big Data: cómo presentar datos y comunicar ideas con impacto. No importa 
 si es presencial u online\, esto ¡Se lo sabe\, o se lo sabe! (No hay escap
 atoria).\n\n \nFecha: 17\, 19\, 24 y 26 de mayo del 2021.\nHorario: 2:00 p
 .m. a 4:00 p.m.\nDuración: 8 horas.\nPlataforma: Zoom.\nInversión: ¢80.000
  + 2% de IVA por participante.\nIncluye: Material didáctico y certificado 
 de participación en PDF.\n \nFacilitador: Dr. Enrique Margery\n\nDoctor en
  Educación y TEDx speaker.\nProfesor de la Maestría en Psicología del Trab
 ajo en la Universidad de Costa Rica. Profesor invitado de la Universidad d
 e Querétaro (UAQ\, México) y la Universidad UAGM (Puerto Rico).\nDiseña ca
 pacitación para desarrollo de soft skills basado en aprendizaje por la exp
 eriencia\, GBL y “reto-aprendizaje”.\nCoach especialista en ciencia de la 
 colaboración y manejo de top performers.\nDiseña herramientas para medir e
 l Sentido de Urgencia\, el “termómetro de la colaboración” y la rentabilid
 ad de la capacitación\, entre otros.\nAutor de los libros “Complejidad y C
 ompetencias”\, “Herramientas de Coaching”\, “El Viaje” (Editorial Norma\; 
 uno de los primeros libros de psicología positiva publicados) y 'Complejid
 ad\, Transdisciplinariedad y Compentencias'\n\n \nTodas nuestras capacitac
 iones pueden ser impartidas en su organización\n \nInscripciones e Informa
 ción al e-mail info@cedeso.co.cr\nTel: (506) 2225-1007 · Fax: (506) 2253-2
 774\nVisite nuestra página www.cedeso.co.cr\nfacebook.com/cedesocostarica
DTSTART:20210517T200000Z
DTEND:20210526T220000Z
GEO:00;0
LOCATION:virtual por Zoom.
ORGANIZER;CN=:info@cedeso.co.cr
SEQUENCE:1
SUMMARY:Presentaciones ejecutivas (para la nueva normalidad)
TRANSP:OPAQUE
URL:https://cedeso.co.cr/eventos-anteriores/406-presentaciones-ejecutivas-p
 ara-la-nueva-normalidad
END:VEVENT
END:VCALENDAR
