BEGIN:VCALENDAR
VERSION:2.0
PRODID:-//Cedeso//NONSGML kigkonsult.se iCalcreator 2.30.10//
CALSCALE:GREGORIAN
METHOD:PUBLISH
UID:48a5619c-4b31-47b6-9d3c-b3324a181030
X-WR-CALNAME:iCagenda
X-WR-CALDESC:Event Management Extension for Joomla!
X-WR-RELCALID:3E26604A-50F4-4449-8B3E-E4F4932D05B5
X-WR-TIMEZONE:America/Costa_Rica
BEGIN:VTIMEZONE
TZID:America/Costa_Rica
BEGIN:STANDARD
TZNAME:CST
DTSTART:20190909T060000
TZOFFSETFROM:+0000
TZOFFSETTO:-0600
END:STANDARD
END:VTIMEZONE
BEGIN:VEVENT
UID:034e028d-504a-4e97-aee7-4ae43837f84d
DTSTAMP:20260419T215549Z
CATEGORIES:Mejores Prácticas Organizacionales
CLASS:PUBLIC
DESCRIPTION;ALTREP="CID:<FFFF__=0ABBE548DFE235B58f9e8a93d@coffeebean.com>":
 Curso practico y teórico para el 2021\nISO 22000\nA quién está dirigido: E
 studiantes\, profesionales en distintas áreas\, personas que desean supera
 rse y aumentar sus conocimientos en la industria de alimentos.\nObjetivos:
 • Conocer la norma ISO 22000:2018\, explicar el significado y su alcance.•
  Desglosar cada una de las partes que son parte de la norma ideales para i
 ndustria de alimentos.\nResumen de contenidos:1. Definiciones básicas.2. B
 eneficios de la norma para la empresa alimenticia.3. Factores clave en la 
 implementación en la empresa.\nFecha: 9 y 10 de junio del 2021.Horario: 8:
 00 p.m. a 10:00 p.m.Duración: 4 horas.Plataforma: Zoom.Inversión: ¢40.000 
 + 2% de IVA por participante.Incluye: Material y certificado de participac
 ión en PDF.\nFacilitador: Ing. César ChavesAdministrador e Ingeniero Indus
 trial. 10 años de experiencia en laboratorios en plantas de alimentos y en
  la industria farmacéutica.\nTodas nuestras capacitaciones pueden ser impa
 rtidas en su organización\nInscripciones e información al e-mail info@cede
 so.co.crTel: (506) 2225-1007 · Tel/Fax: (506) 2253-2774Visite nuestra pági
 na www.cedeso.co.crfacebook.com/cedesocostarica
DTSTART:20210610T020000Z
DTEND:20210611T040000Z
GEO:00;0
LOCATION:virtual por Zoom
ORGANIZER;CN=:info@cedeso.co.cr
SEQUENCE:1
SUMMARY:ISO 22000
TRANSP:OPAQUE
URL:https://cedeso.co.cr/eventos-anteriores/414-iso-22000
END:VEVENT
END:VCALENDAR
