BEGIN:VCALENDAR
VERSION:2.0
PRODID:-//Cedeso//NONSGML kigkonsult.se iCalcreator 2.30.10//
CALSCALE:GREGORIAN
METHOD:PUBLISH
UID:2abd7064-b3db-4299-a919-305961e16dc7
X-WR-CALNAME:iCagenda
X-WR-CALDESC:Event Management Extension for Joomla!
X-WR-RELCALID:3E26604A-50F4-4449-8B3E-E4F4932D05B5
X-WR-TIMEZONE:America/Costa_Rica
BEGIN:VTIMEZONE
TZID:America/Costa_Rica
BEGIN:STANDARD
TZNAME:CST
DTSTART:20190902T060000
TZOFFSETFROM:+0000
TZOFFSETTO:-0600
END:STANDARD
END:VTIMEZONE
BEGIN:VEVENT
UID:dee4bd90-078b-4bb9-a935-da199efe69bc
DTSTAMP:20260419T221039Z
CATEGORIES:Mejores Prácticas Organizacionales
CLASS:PUBLIC
DESCRIPTION;ALTREP="CID:<FFFF__=0ABBE548DFE235B58f9e8a93d@coffeebean.com>":
 Taller:\nHerramientas ejecutivas para asistentes\, oficinistas y auxiliare
 s\nCree relaciones exitosas con sus jefes y compañeros.Aumente sus compete
 ncias y optimice su tiempo.\nContenidos:1. Cómo identificar mi estilo pref
 erido de trabajo\, el de mi jefe y el de los demás. - Contribuyendo a crea
 r un ambiente laboral efectivo.2. Claves para optimizar la efectividad del
  tiempo. - Cómo crear tiempo y lograr un equilibrio vida-trabajo.3. Tips p
 oderosos para mejorar la propia comunicación.4. Aprendizaje continuo: cómo
  actualizarse para las nuevas demandas laborales.\nMetodología: Análisis d
 e casos\, videos\, uso de listas de verificación.Ejemplos propios de la re
 alidad de nuestras organizaciones.\nFecha: 3 de junio del 2021Horario: 8:3
 0 a.m. a 12:00 a.m.Duración total: 3.5 horas.Metodología: Virtual por plat
 aforma Zoom.Inversión: ¢45.000 + 2% de IVA por participante. Incluye: Mate
 rial y certificado de participación en PDF.\nFacilitador: Lic. Carlos Sole
 ra Umaña Licenciado en administración de negocios\, técnico en seguros. Má
 s de 30 años de experiencia en todos los subprocesos de Gestión de RRHH. A
 mplia experiencia en organizaciones de manufactura\, servicios\, cooperati
 vas y ONG’s. Actual fundador y director de CEDESO.S.A.\nTodas nuestras cap
 acitaciones pueden ser impartidas en su organización\nInscripciones e Info
 rmación al e-mail info@cedeso.co.crTel: (506) 2225-1007 / Fax: (506) 2253-
 2774Visite nuestra página www.cedeso.co.crfacebook.com/cedesocostarica\n 
DTSTART:20210603T143000Z
DTEND:20210603T180000Z
GEO:00;0
LOCATION:Virtual por Zoom
ORGANIZER;CN=:info@cedeso.co.cr
SEQUENCE:1
SUMMARY:Herramientas ejecutivas para asistentes\, oficinistas y auxiliares
TRANSP:OPAQUE
URL:https://cedeso.co.cr/eventos-anteriores/416-herramientas-ejecutivas-par
 a-asistentes,-oficinistas-y-auxiliares
END:VEVENT
END:VCALENDAR
