BEGIN:VCALENDAR
VERSION:2.0
PRODID:-//Cedeso//NONSGML kigkonsult.se iCalcreator 2.30.10//
CALSCALE:GREGORIAN
METHOD:PUBLISH
UID:9a213085-e1c7-40bf-a9a8-745810befdc7
X-WR-CALNAME:iCagenda
X-WR-CALDESC:Event Management Extension for Joomla!
X-WR-RELCALID:3E26604A-50F4-4449-8B3E-E4F4932D05B5
X-WR-TIMEZONE:America/Costa_Rica
BEGIN:VTIMEZONE
TZID:America/Costa_Rica
BEGIN:STANDARD
TZNAME:CST
DTSTART:20190907T060000
TZOFFSETFROM:+0000
TZOFFSETTO:-0600
END:STANDARD
END:VTIMEZONE
BEGIN:VEVENT
UID:20f8fe51-065e-4001-b359-3bf972b1754c
DTSTAMP:20260419T220930Z
CATEGORIES:Operaciones
CLASS:PUBLIC
DESCRIPTION;ALTREP="CID:<FFFF__=0ABBE548DFE235B58f9e8a93d@coffeebean.com>":
 Taller:\n¿Cómo diagnosticar mi proceso de importación y evitar riesgos fis
 cales?\nObjetivo:Aportar conocimientos a la empresa importadora a fin de q
 ue puedan conocer los aspectos claves del proceso de fiscalización que apl
 ica la autoridad aduanera en materia de importaciones\, para de esta maner
 a puedan garantizarse el cumplimiento del marco jurídico aduanero existent
 e y evitar sanciones y multas.\nTemario:• Auxiliares de la función pública
  aduanera y sus responsabilidades y obligaciones.• Tipos de control que ej
 erce la aduana.• Documentos aduaneros necesarios para respaldar DUA.• Impo
 rtancia del análisis de contratos de compra venta internacional.• Análisis
  del cumplimiento de requisitos no arancelarios.• La negociación de los IN
 COTERM y su impacto en el cálculo de impuestos.• Clasificación arancelaria
  y su repercusión en el cálculo de impuestos.• Análisis del Valor Aduanero
  como eje principal del cálculo de impuestos.• Análisis del Origen de las 
 mercancías (uso correcto de los certificados de origen).• Delitos aduanero
 s\, infracciones administrativas y tributarias• Sistema Tic@\nFecha: 8 y 1
 0 de junio del 2021.Horario: 8:30 a.m. a 11:30 p.m.Duración: 6 horas.Plata
 forma: Zoom.Inversión: ¢60.000 + 2% de IVA por participante.Incluye: Mater
 ial didáctico y certificado de participación en PDF.\nFacilitadora: Licda.
  Yorleny Jiménez RojasGraduada con honores de la Universidad de Costa Rica
  en la carrera de Administración Aduanera y Comercio Exterior. Certificada
  como especialista en Supply Chain de la Universidad de Nebrija en España.
 Actualmente consultora independiente con 20 años de experiencia en manejo 
 y desarrollo de procesos de internacionalización y logística especialmente
  para el sector agrícola.Especialista en desarrollo de acompañamientos emp
 resariales en temas de importación\, exportación\, logística internacional
 \, entre otros.Profesora de la Universidad de Costa Rica\, Universidad FUN
 DEPOS y capacitadora activa en diferentes Cámaras que agremia exportadores
 \, importadores\, empresas PYMES\, entidades estatales\, colegios profesio
 nales\, entre otros.\nTodas nuestras capacitaciones pueden ser impartidas 
 en su organización\nInscripciones e información al e-mail info@cedeso.co.c
 rTel: (506) 2225-1007 · Tel/Fax: (506) 2253-2774Visite nuestra página www.
 cedeso.co.crfacebook.com/cedesocostarica
DTSTART:20210608T143000Z
DTEND:20210610T173000Z
GEO:00;0
LOCATION:virtual por Zoom
ORGANIZER;CN=:info@cedeso.co.cr
SEQUENCE:1
SUMMARY:¿Cómo diagnosticar mi proceso de importación y evitar riesgos fisca
 les?
TRANSP:OPAQUE
URL:https://cedeso.co.cr/eventos-anteriores/419-%C2%BFc%C3%B3mo-diagnostica
 r-mi-proceso-de-importaci%C3%B3n-y-evitar-riesgos-fiscales
END:VEVENT
END:VCALENDAR
