BEGIN:VCALENDAR
VERSION:2.0
PRODID:-//Cedeso//NONSGML kigkonsult.se iCalcreator 2.30.10//
CALSCALE:GREGORIAN
METHOD:PUBLISH
UID:fc116c1e-7238-4c73-aab0-08eb32024bf5
X-WR-CALNAME:iCagenda
X-WR-CALDESC:Event Management Extension for Joomla!
X-WR-RELCALID:3E26604A-50F4-4449-8B3E-E4F4932D05B5
X-WR-TIMEZONE:America/Costa_Rica
BEGIN:VTIMEZONE
TZID:America/Costa_Rica
BEGIN:STANDARD
TZNAME:CST
DTSTART:20190831T060000
TZOFFSETFROM:+0000
TZOFFSETTO:-0600
END:STANDARD
END:VTIMEZONE
BEGIN:VEVENT
UID:e27f2dd6-c1c8-464c-ae5a-8ed0980796d7
DTSTAMP:20260419T221037Z
CATEGORIES:Mejores Prácticas Organizacionales
CLASS:PUBLIC
DESCRIPTION;ALTREP="CID:<FFFF__=0ABBE548DFE235B58f9e8a93d@coffeebean.com>":
 Taller:\nLa llave maestra: Estrategias efectivas para el mejoramiento de l
 as relaciones interpersonales\n \nDirigido a: Dirigido a personas que dese
 an fortalecer sus habilidades para establecer relaciones interpersonales s
 anas\, cuidando de sí mismas y favoreciendo la creación de sinergias y el 
 trabajo en equipo.\nObjetivo general: Dotar a las personas participantes d
 e herramientas prácticas para comprender\, desarrollar empatía y gestionar
  relaciones interpersonales sanas.\nContenidos:• Inteligencia emocional ap
 licada a las relaciones interpersonales.• Comunicación\, escucha activa y 
 empatía.• ¿Por qué algunas personas nos resultan más difíciles de tolerar?
 • La llave maestra: Gestión de mis emociones y reacciones\, antes que gest
 ionar la forma de ser de la otra persona.• Kit de herramientas prácticas p
 ara gestionar relaciones interpersonales sanas.\nUna experiencia diseñada 
 bajo el modelo de gamificación: Con la metáfora de la llave maestra\, se h
 ará referencia a la importancia de contar con herramientas que nos permita
 n tratar de manera respetuosa y cordial a cualquier persona. Una llave mae
 stra abre cualquier puerta\, llavín o candado. Con esa relación\, los part
 icipantes aprenderán técnicas efectivas que\, aplicándolas en sus relacion
 es con cualquier tipo de persona\, les ayudarán a establecer relaciones cá
 lidas orientadas a las soluciones y reduciendo el nivel de conflicto.\nFec
 ha: 1 y 8 de junio del 2021.Horario: 8:30 a.m. a 12:30 m.d.Duración: 8 hor
 as.Plataforma: Zoom.Inversión: ¢80.000 + 2% IVA por participante.Incluye: 
 Material y certificado de participación en PDF.\nFacilitadora: Licda. Gina
  Sequeira. Psicóloga\, certificada en Business Coaching\, con posgrado de 
 Gamificación y Técnicas de Ludificación. Estudios de posgrado en Evaluació
 n y Gerencia de Proyectos. Socia Fundadora de Skills Lab. Más de 15 años d
 e experiencia en el diseño de procesos de capacitación vinculados al desar
 rollo de habilidades blandas y el fortalecimiento de equipos de alto desem
 peño. Conferencista nacional e internacional.\nTodas nuestras capacitacion
 es pueden ser impartidas en su organización.\nInscripciones e Información 
 al e-mail info@cedeso.co.crTel: (506) 2225-1007 Fax: (506) 2253-2774Visite
  nuestra página www.cedeso.co.crfacebook.com/cedesocostarica
DTSTART:20210601T143000Z
DTEND:20210608T183000Z
GEO:00;0
LOCATION:virtual por Zoom.
ORGANIZER;CN=:info@cedeso.co.cr
SEQUENCE:1
SUMMARY:La llave maestra: Estrategias efectivas para el mejoramiento de las
  relaciones interpersonales.
TRANSP:OPAQUE
URL:https://cedeso.co.cr/eventos-anteriores/420-la-llave-maestra-estrategia
 s-efectivas-para-el-mejoramiento-de-las-relaciones-interpersonales
END:VEVENT
END:VCALENDAR
