BEGIN:VCALENDAR
VERSION:2.0
PRODID:-//Cedeso//NONSGML kigkonsult.se iCalcreator 2.30.10//
CALSCALE:GREGORIAN
METHOD:PUBLISH
UID:57c9b2d2-8d28-4631-981e-faae997088b9
X-WR-CALNAME:iCagenda
X-WR-CALDESC:Event Management Extension for Joomla!
X-WR-RELCALID:3E26604A-50F4-4449-8B3E-E4F4932D05B5
X-WR-TIMEZONE:America/Costa_Rica
BEGIN:VTIMEZONE
TZID:America/Costa_Rica
BEGIN:STANDARD
TZNAME:CST
DTSTART:20190901T060000
TZOFFSETFROM:+0000
TZOFFSETTO:-0600
END:STANDARD
END:VTIMEZONE
BEGIN:VEVENT
UID:3d790148-247e-4dca-8495-a414c72fb061
DTSTAMP:20260419T234606Z
CATEGORIES:Mejores Prácticas Organizacionales
CLASS:PUBLIC
DESCRIPTION;ALTREP="CID:<FFFF__=0ABBE548DFE235B58f9e8a93d@coffeebean.com>":
 Taller:\nIntelemoción: inteligencia emocional para la nueva normalidad\nRe
 cursos urgentes en equipos y personas en la nueva normalidad\nCon doble ce
 rtificación: una por cada taller al que asista\, más un Certificado del Pr
 ograma de desarrollo del potencial (PDP)\, para quien asista a los tres ta
 lleres.\n1. Intelemoción: inteligencia emocional para la nueva normalidad2
 . Mentalidad de Crecimiento3. Herramientas de resiliencia 2021\nContenidos
 :• Cuatro tipos de personas: ¿Qué nos impulsa y qué nos frena? Las cuatro 
 dimensiones de la Intelemoción. • Campo de práctica: Botones calientes\, E
 l Helicóptero\, Habla interior y Caja de Betari.• Intelemoción y soft skil
 ls: recursos para mejorar la flexibilidad\, manejo de prioridades y comuni
 cación asertiva.• Tema especial: del Leadership al Helpership: 7 comportam
 ientos clave en equipos remotos.\nFecha: 2 y 4 de junio del 2021.Horario: 
 3:00 p.m. a 5:00 p.m.Duración: 4 horas.Plataforma: Zoom.Inversión: ¢60.000
  + 2% de IVA por participante.Incluye: Material didáctico y certificado de
  participación en PDF.\nFacilitador: Dr. Enrique Margery- Doctor en Educac
 ión y TEDx speaker.- Profesor de la Maestría en Psicología del Trabajo en 
 la Universidad de Costa Rica. Profesor invitado de la Universidad de Queré
 taro (UAQ\, México) y la Universidad UAGM (Puerto Rico).- Diseña capacitac
 ión para desarrollo de soft skills basado en aprendizaje por la experienci
 a\, GBL y “reto-aprendizaje”.- Coach especialista en ciencia de la colabor
 ación y manejo de top performers.- Diseña herramientas para medir el Senti
 do de Urgencia\, el “termómetro de la colaboración” y la rentabilidad de l
 a capacitación\, entre otros.- Autor de los libros “Complejidad y Competen
 cias”\, “Herramientas de Coaching”\, “El Viaje” (Editorial Norma\; uno de 
 los primeros libros de psicología positiva publicados) y 'Complejidad\, Tr
 ansdisciplinariedad y Compentencias'\nTodas nuestras capacitaciones pueden
  ser impartidas en su organización\nInscripciones e Información al e-mail 
 info@cedeso.co.crTel: (506) 2225-1007 · Fax: (506) 2253-2774Visite nuestra
  página www.cedeso.co.crfacebook.com/cedesocostarica
DTSTART:20210602T210000Z
DTEND:20210604T230000Z
GEO:00;0
LOCATION:Virtual por Zoom.
ORGANIZER;CN=:info@cedeso.co.cr
SEQUENCE:1
SUMMARY:Intelemoción: inteligencia emocional para la nueva normalidad
TRANSP:OPAQUE
URL:https://cedeso.co.cr/eventos-anteriores/424-intelemoci%C3%B3n-inteligen
 cia-emocional-para-la-nueva-normalidad
END:VEVENT
END:VCALENDAR
