BEGIN:VCALENDAR
VERSION:2.0
PRODID:-//Cedeso//NONSGML kigkonsult.se iCalcreator 2.30.10//
CALSCALE:GREGORIAN
METHOD:PUBLISH
UID:1888ff0c-93ae-4ab3-b390-8d3c883a6ebd
X-WR-CALNAME:iCagenda
X-WR-CALDESC:Event Management Extension for Joomla!
X-WR-RELCALID:3E26604A-50F4-4449-8B3E-E4F4932D05B5
X-WR-TIMEZONE:America/Costa_Rica
BEGIN:VTIMEZONE
TZID:America/Costa_Rica
BEGIN:STANDARD
TZNAME:CST
DTSTART:20190907T060000
TZOFFSETFROM:+0000
TZOFFSETTO:-0600
END:STANDARD
END:VTIMEZONE
BEGIN:VEVENT
UID:413b19be-9d6d-49e7-b80d-cb06d7e53c95
DTSTAMP:20260419T215413Z
CATEGORIES:Mejores Prácticas Organizacionales
CLASS:PUBLIC
DESCRIPTION;ALTREP="CID:<FFFF__=0ABBE548DFE235B58f9e8a93d@coffeebean.com>":
 Taller:\nCapabilities en acción\nCon doble certificación: una por cada tal
 ler al que asista\, más un Certificado del Programa para Líderes de Capaci
 tación Empresarial\, para quien asista a los tres talleres.\n1. DNC: ¡rein
 ventar la capacitación alineada con el desempeño!2. Capabilities en acción
 3. Universidades Empresariales y (más) temas avanzados\nContenidos:• Mapeo
  de capabilities: competencias y procesos alineados.• Cierre de Brechas: ¿
 Cómo desarrollar el Insight? Con ejemplos: empresa financiera y empresa de
  tecnologías médicas.• Equipos ágiles para la nueva normalidad: diseño de 
 tablas de desarrollo (T-shaped skills) y 9 dimensiones del aprendizaje ági
 l.\nFecha: 8 y 10 de junio del 2021.Opciones de horario:Opción matutina 8:
 30 a.m. a 10:30 a.m.Opción nocturna: 6:00 p.m. a 8:00 p.m.Duración: 4 hora
 s.Plataforma: Zoom.Inversión: ¢60.000 + 2% de IVA por participante.Incluye
 : Material didáctico y certificado de participación en PDF.\nFacilitador: 
 Dr. Enrique Margery- Doctor en Educación y TEDx speaker.- Profesor de la M
 aestría en Psicología del Trabajo en la Universidad de Costa Rica. Profeso
 r invitado de la Universidad de Querétaro (UAQ\, México) y la Universidad 
 UAGM (Puerto Rico).- Diseña capacitación para desarrollo de soft skills ba
 sado en aprendizaje por la experiencia\, GBL y “reto-aprendizaje”.- Coach 
 especialista en ciencia de la colaboración y manejo de top performers.- Di
 seña herramientas para medir el Sentido de Urgencia\, el “termómetro de la
  colaboración” y la rentabilidad de la capacitación\, entre otros.- Autor 
 de los libros “Complejidad y Competencias”\, “Herramientas de Coaching”\, 
 “El Viaje” (Editorial Norma\; uno de los primeros libros de psicología pos
 itiva publicados) y 'Complejidad\, Transdisciplinariedad y Compentencias'
 \nTodas nuestras capacitaciones pueden ser impartidas en su organización\n
 Inscripciones e Información al e-mail info@cedeso.co.crTel: (506) 2225-100
 7 · Fax: (506) 2253-2774Visite nuestra página www.cedeso.co.crfacebook.com
 /cedesocostarica
DTSTART:20210608T143000Z
DTEND:20210610T163000Z
GEO:00;0
LOCATION:Virtual por Zoom.
ORGANIZER;CN=:info@cedeso.co.cr
SEQUENCE:1
SUMMARY:Capabilities en acción
TRANSP:OPAQUE
URL:https://cedeso.co.cr/eventos-anteriores/425-capabilities-en-acci%C3%B3n
END:VEVENT
END:VCALENDAR
