BEGIN:VCALENDAR
VERSION:2.0
PRODID:-//Cedeso//NONSGML kigkonsult.se iCalcreator 2.30.10//
CALSCALE:GREGORIAN
METHOD:PUBLISH
UID:c128a728-9e1d-4d0f-aea1-aae300897d7d
X-WR-CALNAME:iCagenda
X-WR-CALDESC:Event Management Extension for Joomla!
X-WR-RELCALID:3E26604A-50F4-4449-8B3E-E4F4932D05B5
X-WR-TIMEZONE:America/Costa_Rica
BEGIN:VTIMEZONE
TZID:America/Costa_Rica
BEGIN:STANDARD
TZNAME:CST
DTSTART:20190921T060000
TZOFFSETFROM:+0000
TZOFFSETTO:-0600
END:STANDARD
END:VTIMEZONE
BEGIN:VEVENT
UID:4a60dcad-1509-461b-b2a8-6317ca8534e7
DTSTAMP:20260419T220838Z
CATEGORIES:Mejores Prácticas Organizacionales
CLASS:PUBLIC
DESCRIPTION;ALTREP="CID:<FFFF__=0ABBE548DFE235B58f9e8a93d@coffeebean.com>":
 Taller:\nUniversidades Empresariales y (más) temas avanzados\nCon doble ce
 rtificación: una por cada taller al que asista\, más un Certificado del Pr
 ograma para Líderes de Capacitación Empresarial\, para quien asista a los 
 tres talleres.\n1. DNC: ¡reinventar la capacitación alineada con el desemp
 eño!2. ¡Capabilities en acción!3. Universidades Empresariales y (más) tema
 s avanzados\nContenidos:• El modelo 3C: ¿Qué hace diferentes a las Univers
 idades Empresariales?• El modelo 3C (onboarding\, contexto competitivo\, c
 apacidades Z) ¡En su empresa!• Modelo 20.25.55\, Ciclo de Kolb y Aprendiza
 je autodirigido (misiones\, ZDP\, T-SMAART).\nFecha: 22 y 24 de junio del 
 2021.Opciones de horario:Opción matutina 8:30 a.m. a 10:30 a.m.Opción noct
 urna: 6:00 p.m. a 8:00 p.m.Duración: 4 horas.Plataforma: Zoom.Inversión: ¢
 60.000 + 2% de IVA por participante.Incluye: Material didáctico y certific
 ado de participación en PDF.\nFacilitador: Dr. Enrique Margery- Doctor en 
 Educación y TEDx speaker.- Profesor de la Maestría en Psicología del Traba
 jo en la Universidad de Costa Rica. Profesor invitado de la Universidad de
  Querétaro (UAQ\, México) y la Universidad UAGM (Puerto Rico).- Diseña cap
 acitación para desarrollo de soft skills basado en aprendizaje por la expe
 riencia\, GBL y “reto-aprendizaje”.- Coach especialista en ciencia de la c
 olaboración y manejo de top performers.- Diseña herramientas para medir el
  Sentido de Urgencia\, el “termómetro de la colaboración” y la rentabilida
 d de la capacitación\, entre otros.- Autor de los libros “Complejidad y Co
 mpetencias”\, “Herramientas de Coaching”\, “El Viaje” (Editorial Norma\; u
 no de los primeros libros de psicología positiva publicados) y 'Complejida
 d\, Transdisciplinariedad y Compentencias'\nTodas nuestras capacitaciones 
 pueden ser impartidas en su organización\nInscripciones e Información al e
 -mail info@cedeso.co.crTel: (506) 2225-1007 · Fax: (506) 2253-2774Visite n
 uestra página www.cedeso.co.crfacebook.com/cedesocostarica
DTSTART:20210622T143000Z
DTEND:20210624T163000Z
GEO:00;0
LOCATION:Virtual por Zoom.
ORGANIZER;CN=:info@cedeso.co.cr
SEQUENCE:1
SUMMARY:Universidades Empresariales y (más) temas avanzados
TRANSP:OPAQUE
URL:https://cedeso.co.cr/eventos-anteriores/426-universidades-empresariales
 -y-m%C3%A1s-temas-avanzados
END:VEVENT
END:VCALENDAR
