BEGIN:VCALENDAR
VERSION:2.0
PRODID:-//Cedeso//NONSGML kigkonsult.se iCalcreator 2.30.10//
CALSCALE:GREGORIAN
METHOD:PUBLISH
UID:7a9a988a-46c0-423e-99cc-69bc895ce795
X-WR-CALNAME:iCagenda
X-WR-CALDESC:Event Management Extension for Joomla!
X-WR-RELCALID:3E26604A-50F4-4449-8B3E-E4F4932D05B5
X-WR-TIMEZONE:America/Costa_Rica
BEGIN:VTIMEZONE
TZID:America/Costa_Rica
BEGIN:STANDARD
TZNAME:CST
DTSTART:20190908T060000
TZOFFSETFROM:+0000
TZOFFSETTO:-0600
END:STANDARD
END:VTIMEZONE
BEGIN:VEVENT
UID:6b598d52-7873-4eec-a5fa-b2bb6e658968
DTSTAMP:20260419T220153Z
CATEGORIES:Mejores Prácticas Organizacionales
CLASS:PUBLIC
DESCRIPTION;ALTREP="CID:<FFFF__=0ABBE548DFE235B58f9e8a93d@coffeebean.com>":
 Taller:\nMentalidad de Crecimiento\nRecursos urgentes en equipos y persona
 s en la nueva normalidad\nCon doble certificación: una por cada taller al 
 que asista\, más un Certificado del Programa de desarrollo del potencial (
 PDP)\, para quien asista a los tres talleres.\n1. Intelemoción: inteligenc
 ia emocional para la nueva normalidad2. Mentalidad de Crecimiento3. Herram
 ientas de resiliencia 2021\nContenidos:• Modelos mentales: ¿mentalidad fij
 a o de crecimiento? Con instrumento de autoevaluación.• Las estrategias pa
 ra desarrollar el Growth Mindset (GM): ¡Aplicadas! • Internalidad y el sen
 tido de eficacia: estrategias para el Mundo VUCA/BANI y la nueva normalida
 d.• Fortalecer la curiosidad\, la flexibilidad y el aprendizaje ágil: la c
 aja de herramientas. • Siete indicadores y comportamientos de GM para líde
 res: una autoevaluación.\nFecha: 9 y 11 de junio del 2021.Horario: 3:00 p.
 m. a 5:00 p.m.Duración: 4 horas.Plataforma: Zoom.Inversión: ¢60.000 + 2% d
 e IVA por participante.Incluye: Material didáctico y certificado de partic
 ipación en PDF.\nFacilitador: Dr. Enrique Margery- Doctor en Educación y T
 EDx speaker.- Profesor de la Maestría en Psicología del Trabajo en la Univ
 ersidad de Costa Rica. Profesor invitado de la Universidad de Querétaro (U
 AQ\, México) y la Universidad UAGM (Puerto Rico).- Diseña capacitación par
 a desarrollo de soft skills basado en aprendizaje por la experiencia\, GBL
  y “reto-aprendizaje”.- Coach especialista en ciencia de la colaboración y
  manejo de top performers.- Diseña herramientas para medir el Sentido de U
 rgencia\, el “termómetro de la colaboración” y la rentabilidad de la capac
 itación\, entre otros.- Autor de los libros “Complejidad y Competencias”\,
  “Herramientas de Coaching”\, “El Viaje” (Editorial Norma\; uno de los pri
 meros libros de psicología positiva publicados) y 'Complejidad\, Transdisc
 iplinariedad y Compentencias'\nTodas nuestras capacitaciones pueden ser im
 partidas en su organización\nInscripciones e Información al e-mail info@ce
 deso.co.crTel: (506) 2225-1007 · Fax: (506) 2253-2774Visite nuestra página
  www.cedeso.co.crfacebook.com/cedesocostarica
DTSTART:20210609T210000Z
DTEND:20210611T230000Z
GEO:00;0
LOCATION:Virtual por Zoom.
ORGANIZER;CN=:info@cedeso.co.cr
SEQUENCE:1
SUMMARY:Mentalidad de Crecimiento
TRANSP:OPAQUE
URL:https://cedeso.co.cr/eventos-anteriores/427-mentalidad-de-crecimiento
END:VEVENT
END:VCALENDAR
