BEGIN:VCALENDAR
VERSION:2.0
PRODID:-//Cedeso//NONSGML kigkonsult.se iCalcreator 2.30.10//
CALSCALE:GREGORIAN
METHOD:PUBLISH
UID:9a47138c-db79-44c1-bb4a-4ae3dc790395
X-WR-CALNAME:iCagenda
X-WR-CALDESC:Event Management Extension for Joomla!
X-WR-RELCALID:3E26604A-50F4-4449-8B3E-E4F4932D05B5
X-WR-TIMEZONE:America/Costa_Rica
BEGIN:VTIMEZONE
TZID:America/Costa_Rica
BEGIN:STANDARD
TZNAME:CST
DTSTART:20191004T060000
TZOFFSETFROM:+0000
TZOFFSETTO:-0600
END:STANDARD
END:VTIMEZONE
BEGIN:VEVENT
UID:50f9d0f7-ee98-4180-b3bc-89968fec29f3
DTSTAMP:20260419T222041Z
CATEGORIES:Mejores Prácticas Organizacionales
CLASS:PUBLIC
DESCRIPTION;ALTREP="CID:<FFFF__=0ABBE548DFE235B58f9e8a93d@coffeebean.com>":
 Taller:\nHerramientas de resiliencia 2021\nRecursos urgentes en equipos y 
 personas en la nueva normalidad\nCon doble certificación: una por cada tal
 ler al que asista\, más un Certificado del Programa de desarrollo del pote
 ncial (PDP)\, para quien asista a los tres talleres.\n1. Intelemoción: int
 eligencia emocional para la nueva normalidad2. Mentalidad de Crecimiento3.
  Herramientas de resiliencia 2021\nContenidos:• La resiliencia se aprende:
  cuatro estrategias de perfil resiliente para aplicar “aquí y ahora” en la
  “nueva normalidad”.• Mundo BANI y nueva normalidad: estrategias anti-frag
 ilidad para individuos y equipos.• Autoevaluación de la capacidad de resil
 iencia y persistencia de cada participante.• Resiliencia en el trabajo: nu
 eve estrategias para desarrollar la capacidad de sobreponerse. Trabajo ind
 ividual/grupal de reconocimiento y aplicación de las estrategias.• 10 guía
 s para la acción en equipos resilientes remotos\, con autoevaluación.\nFec
 ha: 5 y 7 de julio del 2021.Horario: 2:00 p.m. a 4:00 p.m.Duración: 4 hora
 s.Plataforma: Zoom.Inversión: ¢60.000 + 2% de IVA por participante.Incluye
 : Material didáctico y certificado de participación en PDF.\nFacilitador: 
 Dr. Enrique Margery- Doctor en Educación y TEDx speaker.- Profesor de la M
 aestría en Psicología del Trabajo en la Universidad de Costa Rica. Profeso
 r invitado de la Universidad de Querétaro (UAQ\, México) y la Universidad 
 UAGM (Puerto Rico).- Diseña capacitación para desarrollo de soft skills ba
 sado en aprendizaje por la experiencia\, GBL y “reto-aprendizaje”.- Coach 
 especialista en ciencia de la colaboración y manejo de top performers.- Di
 seña herramientas para medir el Sentido de Urgencia\, el “termómetro de la
  colaboración” y la rentabilidad de la capacitación\, entre otros.- Autor 
 de los libros “Complejidad y Competencias”\, “Herramientas de Coaching”\, 
 “El Viaje” (Editorial Norma\; uno de los primeros libros de psicología pos
 itiva publicados) y 'Complejidad\, Transdisciplinariedad y Compentencias'
 \nTodas nuestras capacitaciones pueden ser impartidas en su organización\n
 Inscripciones e Información al e-mail info@cedeso.co.crTel: (506) 2225-100
 7 · Fax: (506) 2253-2774Visite nuestra página www.cedeso.co.crfacebook.com
 /cedesocostarica
DTSTART:20210705T200000Z
DTEND:20210707T220000Z
GEO:00;0
LOCATION:Virtual por Zoom.
ORGANIZER;CN=:info@cedeso.co.cr
SEQUENCE:1
SUMMARY:Herramientas de resiliencia 2021
TRANSP:OPAQUE
URL:https://cedeso.co.cr/eventos-anteriores/428-herramientas-de-resiliencia
 -2021
END:VEVENT
END:VCALENDAR
