BEGIN:VCALENDAR
VERSION:2.0
PRODID:-//Cedeso//NONSGML kigkonsult.se iCalcreator 2.30.10//
CALSCALE:GREGORIAN
METHOD:PUBLISH
UID:316b7b82-0156-466f-bbb4-64f43b85dc07
X-WR-CALNAME:iCagenda
X-WR-CALDESC:Event Management Extension for Joomla!
X-WR-RELCALID:3E26604A-50F4-4449-8B3E-E4F4932D05B5
X-WR-TIMEZONE:America/Costa_Rica
BEGIN:VTIMEZONE
TZID:America/Costa_Rica
BEGIN:STANDARD
TZNAME:CST
DTSTART:20191005T060000
TZOFFSETFROM:+0000
TZOFFSETTO:-0600
END:STANDARD
END:VTIMEZONE
BEGIN:VEVENT
UID:92923080-8914-49fb-b354-3622025e4ba5
DTSTAMP:20260419T221425Z
CATEGORIES:Mejores Prácticas Organizacionales
CLASS:PUBLIC
DESCRIPTION;ALTREP="CID:<FFFF__=0ABBE548DFE235B58f9e8a93d@coffeebean.com>":
 Taller online:\nIntra Innovación\nCuestionando lo que hacemos hallamos mej
 oras y soluciones\n¿Qué es un intra-innovador?Es quién constantemente busc
 a y encuentra qué mejorar\, cómo modificar lo qué hace en su día a día\, p
 ara hacerlo más sencillo\, más rápido\, bien desde la primera vez... ¡en f
 in! simplificar mientras logra buenos resultados.\nAprendizajes de este ta
 ller:- Cómo utilizar técnicas para hallazgo práctico de errores o posibles
  mejoras en procesos diarios.- Cómo plantear objetivos de negocio\, hacerl
 os realizables y un instrumento de medición y comunicación de resultados.-
  Implementar cambios con planes certeros y eficaces.- Monitoreo práctico d
 e implementación de mejoras.\nFecha: 6 y 7 de julio 2021.Horario: 9:00 a.m
 . a 11:30 a.m.Duración: 5 horas.Medio: Plataforma Zoom.Inversión: ¢50.000 
 + 2% de IVA por participante.Incluye: Material didáctico y certificado de 
 participación en PDF.\nFacilitadora: Tanya Leiva. Experta en mejoras de ne
 gocio en América Latina. MBA\, PMP\, Data Scientist\, Asesora y especialis
 ta en PYMES. Líder de proyectos en Latinoamérica con más de 10 años de exp
 eriencia en mejora o creación de organizaciones y modelos de negocio\, imp
 actando a más de 2\,000 personas.\nTodas nuestras capacitaciones pueden se
 r impartidas en su organización\nInscripciones e información al e-mail inf
 o@cedeso.co.crTel: (506) 2225-1007 · Tel/Fax: (506) 2253-2774Visite nuestr
 a página www.cedeso.co.crfacebook.com/cedesocostarica
DTSTART:20210706T150000Z
DTEND:20210707T173000Z
GEO:00;0
LOCATION:Virtual por Zoom.
ORGANIZER;CN=:info@cedeso.co.cr
SEQUENCE:1
SUMMARY:Intra Innovación
TRANSP:OPAQUE
URL:https://cedeso.co.cr/eventos-anteriores/433-intra-innovaci%C3%B3n
END:VEVENT
END:VCALENDAR
