BEGIN:VCALENDAR
VERSION:2.0
PRODID:-//Cedeso//NONSGML kigkonsult.se iCalcreator 2.30.10//
CALSCALE:GREGORIAN
METHOD:PUBLISH
UID:13f57300-5ac2-4637-9a94-3fa670796e11
X-WR-CALNAME:iCagenda
X-WR-CALDESC:Event Management Extension for Joomla!
X-WR-RELCALID:3E26604A-50F4-4449-8B3E-E4F4932D05B5
X-WR-TIMEZONE:America/Costa_Rica
BEGIN:VTIMEZONE
TZID:America/Costa_Rica
BEGIN:STANDARD
TZNAME:CST
DTSTART:20191005T060000
TZOFFSETFROM:+0000
TZOFFSETTO:-0600
END:STANDARD
END:VTIMEZONE
BEGIN:VEVENT
UID:dd4b285e-d4db-4456-b8d0-5f09ea1fd6a8
DTSTAMP:20260419T221355Z
CATEGORIES:Mejores Prácticas Organizacionales
CLASS:PUBLIC
DESCRIPTION;ALTREP="CID:<FFFF__=0ABBE548DFE235B58f9e8a93d@coffeebean.com>":
 Train the trainer virtual\n \ne-Formadores: cómo capacitar en entornos vir
 tuales\n \nEn la nueva normalidad la capacidad crucial es el liderazgo de 
 equipos remotos en contextos complejos. En esta época de retos\, de mucho 
 upskilling\, el reto es el Upskilling del Liderazgo\n \nObjetivo orientati
 vo: las y los participantes podrán explicar\, aplicar y apreciar un conjun
 to integrado de herramientas para desarrollar capacitación empresarial baj
 o la modalidad de virtual.\n \nContenidos y actividades:\n\nConductas de a
 pertura\, movilización grupal virtual y engagement de participantes.\nDidá
 ctica\, neurociencia y mediación virtual para formadores en empresa: proye
 cto Padlet tipo TEDx.\nDNC basado en evidencias\, ciclo de Kolb y capacita
 ción enfocada en el desempeño de personas y equipos.\nDiseño instruccional
  en entorno virtual: ADDIE (impacto)\, ARCS (motivacional) y AGILE/Didacti
 k.\nCambio Autodirigido: autodesarrollo e insight de brechas de desempeño.
 \nFlipped classroom y microtraining: usted y el futuro de la capacitación.
 \n20.70 y 20.25.55: feedback\, mentoraje\, “reto-aprendizaje” y los 8 desa
 fíos del aprendizaje situado.\nStorytelling (narrativas) en capacitación e
 mpresarial: didáctica de avanzada para trainers expertos.\n\n \nFecha: 6\,
  9\, 13 y 16 de julio del 2021.\nHorario: 8:30 a.m. a 10:30 m.d.\nDuración
 : 8 horas.\nPlataforma: Zoom.\nInversión: ¢80.000 + 2% de IVA por particip
 ante.\nIncluye: Material didáctico y certificado de participación en PDF.
 \n \nFacilitador: Enrique Margery Bertoglia.\nDoctor en Educación. TEDx sp
 eaker. Director del Open Institute. Profesor de la Maestría en Psicología 
 del Trabajo y las Organizaciones (UCR). Director de la revista empresarial
  Mundo VICA. Profesor invitado de las Universidades Autónoma de Querétaro 
 (UAQ\, Méx) y UAGM (Puerto Rico). Representante residente de Entrenadores 
 del Talento (España). Miembro del Observatorio del Juego y del Diplomado I
 nternacional en Pedagogía del Juego. Autor de los libros “El Viaje”\, “Her
 ramientas de Coaching”\, “¡Aléjate de la Escalera!” / “Step away from the 
 ladder!” y “Complejidad\, transdisciplinariedad y competencias”.\n \nTodas
  nuestras capacitaciones pueden ser impartidas en su organización.\n \nIns
 cripciones e información al e-mail info@cedeso.co.cr\nTel: (506) 2225-1007
  Fax: (506) 2253-2774\nVisite nuestra página www.cedeso.co.cr\nfacebook.co
 m/cedesocostarica
DTSTART:20210706T143000Z
DTEND:20210716T163000Z
GEO:00;0
LOCATION:Virtual por Zoom.
ORGANIZER;CN=:info@cedeso.co.cr
SEQUENCE:1
SUMMARY:Train the trainer virtual
TRANSP:OPAQUE
URL:https://cedeso.co.cr/eventos-anteriores/437-train-the-trainer-virtual
END:VEVENT
END:VCALENDAR
