BEGIN:VCALENDAR
VERSION:2.0
PRODID:-//Cedeso//NONSGML kigkonsult.se iCalcreator 2.30.10//
CALSCALE:GREGORIAN
METHOD:PUBLISH
UID:04865899-8d6c-4fc3-9aeb-7842f0c29a93
X-WR-CALNAME:iCagenda
X-WR-CALDESC:Event Management Extension for Joomla!
X-WR-RELCALID:3E26604A-50F4-4449-8B3E-E4F4932D05B5
X-WR-TIMEZONE:America/Costa_Rica
BEGIN:VTIMEZONE
TZID:America/Costa_Rica
BEGIN:STANDARD
TZNAME:CST
DTSTART:20191103T060000
TZOFFSETFROM:+0000
TZOFFSETTO:-0600
END:STANDARD
END:VTIMEZONE
BEGIN:VEVENT
UID:012bb172-e56a-46c1-bf91-0f72348c1eff
DTSTAMP:20260419T233238Z
CATEGORIES:Mejores Prácticas Organizacionales
CLASS:PUBLIC
DESCRIPTION;ALTREP="CID:<FFFF__=0ABBE548DFE235B58f9e8a93d@coffeebean.com>":
 Taller:\nDesarrolle su liderazgo\n \nEn la nueva normalidad la capacidad c
 rucial es el liderazgo de equipos remotos en contextos complejos. En esta 
 época de retos\, de mucho upskilling\, el reto es el Upskilling del Lidera
 zgo\nObjetivo general: explicar\, aplicar y apreciar las capacidades asoci
 adas con el desarrollo continuo del papel de líder.\nContenidos:• Cuatro p
 reguntas para el liderazgo\; una autoevaluación de la transparencia\, agil
 idad\, experticia y visión alineada.• Modelo 20.25.55: vulnerabilidad\, hu
 mildad situacional y optimismo acotado. Guías ACE y liderazgo para experto
 s.• Liderar es gestionar equipos top: autoevaluación y guías para la acció
 n en liderazgo para la Ejecución.• Guías de acción y comportamientos de li
 derazgo en el contexto pandémico y trabajo con equipos remotos.• Storytell
 ing\, mediación de datos y triada de la influencia: impacto e influencia p
 ara líderes.\nFecha: 4 y 6 de agosto 2021.Horario: 8:30 a.m. a 10:30 a.m.D
 uración: 4 horas.Plataforma: Zoom.Inversión: ¢60.000 + 2% de IVA por parti
 cipante.Incluye: Material didáctico y certificado de participación en PDF.
 \nFacilitador: Dr. Enrique Margery- Doctor en Educación y TEDx speaker.- P
 rofesor de la Maestría en Psicología del Trabajo en la Universidad de Cost
 a Rica. Profesor invitado de la Universidad de Querétaro (UAQ\, México) y 
 la Universidad UAGM (Puerto Rico).- Diseña capacitación para desarrollo de
  soft skills basado en aprendizaje por la experiencia\, GBL y “reto-aprend
 izaje”.- Coach especialista en ciencia de la colaboración y manejo de top 
 performers.- Diseña herramientas para medir el Sentido de Urgencia\, el “t
 ermómetro de la colaboración” y la rentabilidad de la capacitación\, entre
  otros.- Autor de los libros “Complejidad y Competencias”\, “Herramientas 
 de Coaching”\, “El Viaje” (Editorial Norma\; uno de los primeros libros de
  psicología positiva publicados) y 'Complejidad\, Transdisciplinariedad y 
 Compentencias'\nTodas nuestras capacitaciones pueden ser impartidas en su 
 organización\nInscripciones e Información al e-mail info@cedeso.co.crTel: 
 (506) 2225-1007 · Fax: (506) 2253-2774Visite nuestra página www.cedeso.co.
 crfacebook.com/cedesocostarica
DTSTART:20210804T143000Z
DTEND:20210806T163000Z
GEO:00;0
LOCATION:Virtual por Zoom.
ORGANIZER;CN=:info@cedeso.co.cr
SEQUENCE:1
SUMMARY:Desarrolle su liderazgo
TRANSP:OPAQUE
URL:https://cedeso.co.cr/eventos-anteriores/442-desarrolle-su-liderazgo
END:VEVENT
END:VCALENDAR
