BEGIN:VCALENDAR
VERSION:2.0
PRODID:-//Cedeso//NONSGML kigkonsult.se iCalcreator 2.30.10//
CALSCALE:GREGORIAN
METHOD:PUBLISH
UID:4c03e75c-b9d3-44fc-9c28-f34533627cad
X-WR-CALNAME:iCagenda
X-WR-CALDESC:Event Management Extension for Joomla!
X-WR-RELCALID:3E26604A-50F4-4449-8B3E-E4F4932D05B5
X-WR-TIMEZONE:America/Costa_Rica
BEGIN:VTIMEZONE
TZID:America/Costa_Rica
BEGIN:STANDARD
TZNAME:CST
DTSTART:20191109T060000
TZOFFSETFROM:+0000
TZOFFSETTO:-0600
END:STANDARD
END:VTIMEZONE
BEGIN:VEVENT
UID:255bc326-6b2d-49e1-b023-938ce2df517a
DTSTAMP:20260419T233016Z
CATEGORIES:Mejores Prácticas Organizacionales
CLASS:PUBLIC
DESCRIPTION;ALTREP="CID:<FFFF__=0ABBE548DFE235B58f9e8a93d@coffeebean.com>":
 Taller:\nCómo dar un buen Feedback\nEn la nueva normalidad la capacidad cr
 ucial es el liderazgo de equipos remotos en contextos complejos. En esta é
 poca de retos\, de mucho upskilling\, el reto es el Upskilling del Lideraz
 go\nObjetivo general: explicar1\, aplicar2 y apreciar3 herramientas para d
 ar estructura\, comunicar con claridad y operar apreciativamente\, de modo
  que sus colaboradores desarrollen compromiso\, claridad y motivación para
  mejorar su desempeño.\nContenidos:• El ciclo del desempeño: alinear\, mod
 elar\, fijar expectativas\, manejar los modos directivos y guiones para ma
 nejo de los 4 tipos de colaborador.• Neurociencia\, comunicación y SEP: me
 jores prácticas y comportamientos asociados con un feedback exitoso.• Feed
 back Serious Play©: 11 estrategias esenciales para poner en acción por cad
 a participante.• ¿Cómo dar una retroalimentación positiva y superar el “bl
 oqueo comunicativo”?• “Regla 3 a 1”: retroalimentación basada en fortaleza
 s y manejo del mejoramiento enfocado en corregir debilidades.\nFecha: 10 y
  12 de agosto 2021.Horario: 8:30 a.m. a 10:30 a.m.Duración: 4 horas.Plataf
 orma: Zoom.Inversión: ¢60.000 + 2% de IVA por participante.Incluye: Materi
 al didáctico y certificado de participación en PDF.\nFacilitador: Dr. Enri
 que Margery- Doctor en Educación y TEDx speaker.- Profesor de la Maestría 
 en Psicología del Trabajo en la Universidad de Costa Rica. Profesor invita
 do de la Universidad de Querétaro (UAQ\, México) y la Universidad UAGM (Pu
 erto Rico).- Diseña capacitación para desarrollo de soft skills basado en 
 aprendizaje por la experiencia\, GBL y “reto-aprendizaje”.- Coach especial
 ista en ciencia de la colaboración y manejo de top performers.- Diseña her
 ramientas para medir el Sentido de Urgencia\, el “termómetro de la colabor
 ación” y la rentabilidad de la capacitación\, entre otros.- Autor de los l
 ibros “Complejidad y Competencias”\, “Herramientas de Coaching”\, “El Viaj
 e” (Editorial Norma\; uno de los primeros libros de psicología positiva pu
 blicados) y 'Complejidad\, Transdisciplinariedad y Compentencias'\nTodas n
 uestras capacitaciones pueden ser impartidas en su organización\nInscripci
 ones e Información al e-mail info@cedeso.co.crTel: (506) 2225-1007 · Fax: 
 (506) 2253-2774Visite nuestra página www.cedeso.co.crfacebook.com/cedesoco
 starica
DTSTART:20210810T143000Z
DTEND:20210812T163000Z
GEO:00;0
LOCATION:Virtual por Zoom
ORGANIZER;CN=:info@cedeso.co.cr
SEQUENCE:1
SUMMARY:Cómo dar un buen Feedback
TRANSP:OPAQUE
URL:https://cedeso.co.cr/eventos-anteriores/444-c%C3%B3mo-dar-un-buen-feedb
 ack
END:VEVENT
END:VCALENDAR
