BEGIN:VCALENDAR
VERSION:2.0
PRODID:-//Cedeso//NONSGML kigkonsult.se iCalcreator 2.30.10//
CALSCALE:GREGORIAN
METHOD:PUBLISH
UID:41e54aad-6970-4ae9-9df5-69c40e1cc9ea
X-WR-CALNAME:iCagenda
X-WR-CALDESC:Event Management Extension for Joomla!
X-WR-RELCALID:3E26604A-50F4-4449-8B3E-E4F4932D05B5
X-WR-TIMEZONE:America/Costa_Rica
BEGIN:VTIMEZONE
TZID:America/Costa_Rica
BEGIN:STANDARD
TZNAME:CST
DTSTART:20191117T060000
TZOFFSETFROM:+0000
TZOFFSETTO:-0600
END:STANDARD
END:VTIMEZONE
BEGIN:VEVENT
UID:94e7838f-516b-4c2b-9371-dc25fc7b1668
DTSTAMP:20260419T232916Z
CATEGORIES:Mejores Prácticas Organizacionales
CLASS:PUBLIC
DESCRIPTION;ALTREP="CID:<FFFF__=0ABBE548DFE235B58f9e8a93d@coffeebean.com>":
 Taller:\nDecidir es actuar\nEn la nueva normalidad la capacidad crucial es
  el liderazgo de equipos remotos en contextos complejos. En esta época de 
 retos\, de mucho upskilling\, el reto es el Upskilling del Liderazgo\nObje
 tivo general: explicar\, aplicar y apreciar herramientas para decidir en e
 ntornos complejos.\nContenidos:• ¿Qué es tomar decisiones? Una autoevaluac
 ión para poner a prueba sus instintos.• Modelo 10.20.70: guías para la acc
 ión\, oportunidades de aprendizaje por la experiencia y preguntas de autoc
 oaching para desarrollar la capacidad de toma de decisiones.• Identifique 
 siete sesgos a la hora de decidir y piense con claridad en el entorno pand
 émico VICA/BANI.• Pensamiento crítico\, innovador y creativo: siete pregun
 tas para mejorar la calidad de las decisiones. • Retrospectivas ágiles y e
 ntrenamiento de la intuición para mejorar la toma de decisiones.• Mejores 
 prácticas y manejo del pensamiento de grupo al tomar decisiones en equipo.
 \nFecha: 18 y 20 de agosto 2021.Horario: 8:30 a.m. a 10:30 a.m.Duración: 4
  horas.Plataforma: Zoom.Inversión: ¢60.000 + 2% de IVA por participante.In
 cluye: Material didáctico y certificado de participación en PDF.\nFacilita
 dor: Dr. Enrique Margery- Doctor en Educación y TEDx speaker.- Profesor de
  la Maestría en Psicología del Trabajo en la Universidad de Costa Rica. Pr
 ofesor invitado de la Universidad de Querétaro (UAQ\, México) y la Univers
 idad UAGM (Puerto Rico).- Diseña capacitación para desarrollo de soft skil
 ls basado en aprendizaje por la experiencia\, GBL y “reto-aprendizaje”.- C
 oach especialista en ciencia de la colaboración y manejo de top performers
 .- Diseña herramientas para medir el Sentido de Urgencia\, el “termómetro 
 de la colaboración” y la rentabilidad de la capacitación\, entre otros.- A
 utor de los libros “Complejidad y Competencias”\, “Herramientas de Coachin
 g”\, “El Viaje” (Editorial Norma\; uno de los primeros libros de psicologí
 a positiva publicados) y 'Complejidad\, Transdisciplinariedad y Compentenc
 ias'\nTodas nuestras capacitaciones pueden ser impartidas en su organizaci
 ón\nInscripciones e Información al e-mail info@cedeso.co.crTel: (506) 2225
 -1007 · Fax: (506) 2253-2774Visite nuestra página www.cedeso.co.crfacebook
 .com/cedesocostarica
DTSTART:20210818T143000Z
DTEND:20210820T163000Z
GEO:00;0
LOCATION:Virtual por Zoom.
ORGANIZER;CN=:info@cedeso.co.cr
SEQUENCE:1
SUMMARY:Decidir es actuar
TRANSP:OPAQUE
URL:https://cedeso.co.cr/eventos-anteriores/445-decidir-es-actuar
END:VEVENT
END:VCALENDAR
