BEGIN:VCALENDAR
VERSION:2.0
PRODID:-//Cedeso//NONSGML kigkonsult.se iCalcreator 2.30.10//
CALSCALE:GREGORIAN
METHOD:PUBLISH
UID:6f96e19d-2d1e-4b2d-8870-ef371d45dca8
X-WR-CALNAME:iCagenda
X-WR-CALDESC:Event Management Extension for Joomla!
X-WR-RELCALID:3E26604A-50F4-4449-8B3E-E4F4932D05B5
X-WR-TIMEZONE:America/Costa_Rica
BEGIN:VTIMEZONE
TZID:America/Costa_Rica
BEGIN:STANDARD
TZNAME:CST
DTSTART:20191123T060000
TZOFFSETFROM:+0000
TZOFFSETTO:-0600
END:STANDARD
END:VTIMEZONE
BEGIN:VEVENT
UID:76fb9c11-e6d8-44f6-9e13-10c1d7b502cf
DTSTAMP:20260419T234933Z
CATEGORIES:Mejores Prácticas Organizacionales
CLASS:PUBLIC
DESCRIPTION;ALTREP="CID:<FFFF__=0ABBE548DFE235B58f9e8a93d@coffeebean.com>":
 Taller:\nManejo del Estrés (en el mundo BANI y en equipos remotos)\nEn la 
 nueva normalidad la capacidad crucial es el liderazgo de equipos remotos e
 n contextos complejos. En esta época de retos\, de mucho upskilling\, el r
 eto es el Upskilling del Liderazgo\nObjetivo general: explicar\, aplicar y
  apreciar la noción de estrés1\, sus mecanismos y un conjunto de herramien
 tas para afrontar el estrés presencial y virtual\, centradas en el problem
 a o en la gestión de las emociones.\nContenidos:• La curva del estrés: lo 
 positivo\, lo negativo\, los factores protectores y desencadenantes en nue
 stro caso. • Modelo NUTS: novedad\, incertidumbre\, amenaza y pérdida de c
 ontrol en el trabajo. Técnicas para líderes y sus equipos.• Estrategias ce
 ntradas en el problema (planificación e intervención de sistemas vs confro
 ntación). • Estrategias centradas en la emoción (autocontrol\, reencuadre 
 y apoyo versus escape).• Portafolio de aprendizajes de cada participante: 
 “Desafiando la voz interior”.\nFecha: 24 y 26 de agosto 2021.Horario: 8:30
  a.m. a 10:30 a.m.Duración: 4 horas.Plataforma: Zoom.Inversión: ¢60.000 + 
 2% de IVA por participante.Incluye: Material didáctico y certificado de pa
 rticipación en PDF.\nFacilitador: Dr. Enrique Margery- Doctor en Educación
  y TEDx speaker.- Profesor de la Maestría en Psicología del Trabajo en la 
 Universidad de Costa Rica. Profesor invitado de la Universidad de Querétar
 o (UAQ\, México) y la Universidad UAGM (Puerto Rico).- Diseña capacitación
  para desarrollo de soft skills basado en aprendizaje por la experiencia\,
  GBL y “reto-aprendizaje”.- Coach especialista en ciencia de la colaboraci
 ón y manejo de top performers.- Diseña herramientas para medir el Sentido 
 de Urgencia\, el “termómetro de la colaboración” y la rentabilidad de la c
 apacitación\, entre otros.- Autor de los libros “Complejidad y Competencia
 s”\, “Herramientas de Coaching”\, “El Viaje” (Editorial Norma\; uno de los
  primeros libros de psicología positiva publicados) y 'Complejidad\, Trans
 disciplinariedad y Compentencias'\nTodas nuestras capacitaciones pueden se
 r impartidas en su organización\nInscripciones e Información al e-mail inf
 o@cedeso.co.crTel: (506) 2225-1007 · Fax: (506) 2253-2774Visite nuestra pá
 gina www.cedeso.co.crfacebook.com/cedesocostarica
DTSTART:20210824T143000Z
DTEND:20210826T163000Z
GEO:00;0
LOCATION:Virtual por Zoom.
ORGANIZER;CN=:info@cedeso.co.cr
SEQUENCE:1
SUMMARY:Manejo del Estrés (en el mundo BANI y en equipos remotos)
TRANSP:OPAQUE
URL:https://cedeso.co.cr/eventos-anteriores/446-manejo-del-estr%C3%A9s-en-e
 l-mundo-bani-y-en-equipos-remotos
END:VEVENT
END:VCALENDAR
