BEGIN:VCALENDAR
VERSION:2.0
PRODID:-//Cedeso//NONSGML kigkonsult.se iCalcreator 2.30.10//
CALSCALE:GREGORIAN
METHOD:PUBLISH
UID:0612626d-e855-442d-a06d-c1a0e03d6c67
X-WR-CALNAME:iCagenda
X-WR-CALDESC:Event Management Extension for Joomla!
X-WR-RELCALID:3E26604A-50F4-4449-8B3E-E4F4932D05B5
X-WR-TIMEZONE:America/Costa_Rica
BEGIN:VTIMEZONE
TZID:America/Costa_Rica
BEGIN:STANDARD
TZNAME:CST
DTSTART:20191014T060000
TZOFFSETFROM:+0000
TZOFFSETTO:-0600
END:STANDARD
END:VTIMEZONE
BEGIN:VEVENT
UID:4bc35252-bc02-44ae-a420-3f8a10e7f237
DTSTAMP:20260419T223717Z
CATEGORIES:Operaciones
CLASS:PUBLIC
DESCRIPTION;ALTREP="CID:<FFFF__=0ABBE548DFE235B58f9e8a93d@coffeebean.com>":
 Taller:\nMarketing para exportadores: ¿Cómo colocar mi producto en un merc
 ado internacional?\nObjetivo:Analizar las tres vertientes básicas que pued
 e proyectar una empresa cuando decide expandirse hacia los mercados exteri
 ores: ¿Cuáles son aquellos países que ofrecen mayor potencial? ¿Qué formas
  de entrada existen para llegar a los clientes internacionales? Cómo\nTema
 rio:• Entorno y marketing internacional ✓ El plan de marketing internacion
 al • Selección de mercados exteriores • Formas de entrada en mercados exte
 riores • Marketing mix internacional  o El producto  o El precio  o La dis
 tribución  o La comunicación\nFecha: 15 de julio del 2021.Horario: 8:00 a.
 m. a 12:00 p.m.Duración: 4 horas.Plataforma: Zoom.Inversión: ¢40.000 + 2% 
 de IVA por participante.Incluye: Material didáctico y certificado de parti
 cipación en PDF.\nFacilitadora: Licda. Yorleny Jiménez RojasGraduada con h
 onores de la Universidad de Costa Rica en la carrera de Administración Adu
 anera y Comercio Exterior. Certificada como especialista en Supply Chain d
 e la Universidad de Nebrija en España.Actualmente consultora independiente
  con 20 años de experiencia en manejo y desarrollo de procesos de internac
 ionalización y logística especialmente para el sector agrícola.Especialist
 a en desarrollo de acompañamientos empresariales en temas de importación\,
  exportación\, logística internacional\, entre otros.Profesora de la Unive
 rsidad de Costa Rica\, Universidad FUNDEPOS y capacitadora activa en difer
 entes Cámaras que agremia exportadores\, importadores\, empresas PYMES\, e
 ntidades estatales\, colegios profesionales\, entre otros.\nTodas nuestras
  capacitaciones pueden ser impartidas en su organización\nInscripciones e 
 información al e-mail info@cedeso.co.crTel: (506) 2225-1007 · Tel/Fax: (50
 6) 2253-2774Visite nuestra página www.cedeso.co.crfacebook.com/cedesocosta
 rica
DTSTART:20210715T140000Z
DTEND:20210715T180000Z
GEO:00;0
LOCATION:Virtual por Zoom.
ORGANIZER;CN=:info@cedeso.co.cr
SEQUENCE:1
SUMMARY:Marketing para exportadores: ¿Cómo colocar mi producto en un mercad
 o internacional?
TRANSP:OPAQUE
URL:https://cedeso.co.cr/eventos-anteriores/448-marketing-para-exportadores
 -%C2%BFc%C3%B3mo-colocar-mi-producto-en-un-mercado-internacional
END:VEVENT
END:VCALENDAR
