BEGIN:VCALENDAR
VERSION:2.0
PRODID:-//Cedeso//NONSGML kigkonsult.se iCalcreator 2.30.10//
CALSCALE:GREGORIAN
METHOD:PUBLISH
UID:51954328-79e6-48ea-8a93-95393f64d009
X-WR-CALNAME:iCagenda
X-WR-CALDESC:Event Management Extension for Joomla!
X-WR-RELCALID:3E26604A-50F4-4449-8B3E-E4F4932D05B5
X-WR-TIMEZONE:America/Costa_Rica
BEGIN:VTIMEZONE
TZID:America/Costa_Rica
BEGIN:STANDARD
TZNAME:CST
DTSTART:20191104T060000
TZOFFSETFROM:+0000
TZOFFSETTO:-0600
END:STANDARD
END:VTIMEZONE
BEGIN:VEVENT
UID:985f509d-2b76-452d-911d-18eeb8818c3a
DTSTAMP:20260419T234505Z
CATEGORIES:Operaciones
CLASS:PUBLIC
DESCRIPTION;ALTREP="CID:<FFFF__=0ABBE548DFE235B58f9e8a93d@coffeebean.com>":
 Taller:\nValoración aduanera como eje principal para el cálculo correcto d
 e los impuestos de aduana\nObjetivo:Conocer el impacto de la Valoración Ad
 uanera no sólo para la correcta liquidación de los derechos arancelarios a
  la importación\, sino también con base a su papel significativo en otros 
 aspectos del comercio internacional\, a nivel de estadísticas\, contingent
 es y otros gravámenes percibidos de la importación\, así como en la aplica
 ción de sistemas preferenciales.\nTemario:• Obligaciones relativas a las i
 mportaciones • Requerimientos de importación • Aspectos importantes para d
 eterminar el Valor (uso de cánones\, licencias\, aplicación de descuentos\
 , vinculación comercial\, muestras sin valor comercial\, ventas sucesivas\
 , métodos secundarios para obtener el valor aduanero\, etc). Según el Acue
 rdo de Valoración Aduanera de la OMC. • Registro de Importadores ante el Ó
 rgano de Valoración Aduanera • Importancia y alcances de la presentación d
 e la declaración de valor aduanera. • Valor Aduanero y su afectación en el
  cálculo de los impuestos de aduanas\nFecha: 5 de agosto del 2021.Horario:
  8:00 a.m. a 12:00 p.m.Duración: 4 horas.Plataforma: Zoom.Inversión: ¢40.0
 00 + 2% de IVA por participante.Incluye: Material didáctico y certificado 
 de participación en PDF.\nFacilitadora: Licda. Yorleny Jiménez RojasGradua
 da con honores de la Universidad de Costa Rica en la carrera de Administra
 ción Aduanera y Comercio Exterior. Certificada como especialista en Supply
  Chain de la Universidad de Nebrija en España.Actualmente consultora indep
 endiente con 20 años de experiencia en manejo y desarrollo de procesos de 
 internacionalización y logística especialmente para el sector agrícola.Esp
 ecialista en desarrollo de acompañamientos empresariales en temas de impor
 tación\, exportación\, logística internacional\, entre otros.Profesora de 
 la Universidad de Costa Rica\, Universidad FUNDEPOS y capacitadora activa 
 en diferentes Cámaras que agremia exportadores\, importadores\, empresas P
 YMES\, entidades estatales\, colegios profesionales\, entre otros.\nTodas 
 nuestras capacitaciones pueden ser impartidas en su organización\nInscripc
 iones e información al e-mail info@cedeso.co.crTel: (506) 2225-1007 · Tel/
 Fax: (506) 2253-2774Visite nuestra página www.cedeso.co.crfacebook.com/ced
 esocostarica
DTSTART:20210805T140000Z
DTEND:20210805T180000Z
GEO:00;0
LOCATION:Virtual por Zoom.
ORGANIZER;CN=:info@cedeso.co.cr
SEQUENCE:1
SUMMARY:Valoración aduanera como eje principal para el cálculo correcto de 
 los impuestos de aduana
TRANSP:OPAQUE
URL:https://cedeso.co.cr/eventos-anteriores/449-valoraci%C3%B3n-aduanera-co
 mo-eje-principal-para-el-c%C3%A1lculo-correcto-de-los-impuestos-de-aduana
END:VEVENT
END:VCALENDAR
