BEGIN:VCALENDAR
VERSION:2.0
PRODID:-//Cedeso//NONSGML kigkonsult.se iCalcreator 2.30.10//
CALSCALE:GREGORIAN
METHOD:PUBLISH
UID:17573463-0b29-4de3-b0a4-177eec60c25a
X-WR-CALNAME:iCagenda
X-WR-CALDESC:Event Management Extension for Joomla!
X-WR-RELCALID:3E26604A-50F4-4449-8B3E-E4F4932D05B5
X-WR-TIMEZONE:America/Costa_Rica
BEGIN:VTIMEZONE
TZID:America/Costa_Rica
BEGIN:STANDARD
TZNAME:CST
DTSTART:20191013T060000
TZOFFSETFROM:+0000
TZOFFSETTO:-0600
END:STANDARD
END:VTIMEZONE
BEGIN:VEVENT
UID:e1668a84-0734-4932-8fdc-1bfb4c58846a
DTSTAMP:20260419T221226Z
CATEGORIES:Mejores Prácticas Organizacionales
CLASS:PUBLIC
DESCRIPTION;ALTREP="CID:<FFFF__=0ABBE548DFE235B58f9e8a93d@coffeebean.com>":
 Certificación Executive Coaching\nModelo Europeo - Método Socrático\nFecha
 s:Módulo 1: 13\, 15 julio - 6 p.m. a 8 p.m. 17 julio - 8 a.m. a 12 m.d.Mód
 ulo 2: 20\, 22 julio - 6 p.m. a 8 p.m. 31 julio - 8 a.m. a 12 m.d.Módulo 3
 : 14 y 28 agosto - 8 a.m. a 12 m.d.Módulo 4: 11 y 25 setiembre - 8 a.m. a 
 12 m.d.\nInversión: ¢465.000 + 2% de IVA por participante.\nResultados al 
 finalizar el programa:• Adquirir habilidades de comunicación que posibilit
 en el desarrollo laboral. • Aplicación inmediata de lo aprendido en la vid
 a cotidiana.• Desarrollar la capacidad de liderazgo y trabajo en equipo. •
  Expandir la creatividad para el desarrollo de los proyectos. • Certificac
 ión de Europa Campus de Alemania.• Networking.\nTemario: - Las competencia
 s del Executive Coach- Desarrollo de visión estratégica- Toma de decisione
 s- Detectar comportamientos- Cultura de alto rendimiento- Efectividad y re
 sultados- Comunicación dinámica- Roles para entrenar equipos- Herramientas
  de asertividad gerencial- Manejo de conflictos en las relaciones\nCaracte
 rísticas:• Certificación grupal • 32 horas presenciales• 20 horas de video
 s y lecturas • 10 horas trabajo de graduación y revisión de trabajo indivi
 dual• Master Plan o Proyecto Socrático • Teórico 30% práctico 70%\nIncluye
 : - Diploma de Certificación Internacional - Herramientas coaching- Manual
  del curso- Libro “Marketing Personal” - Guía de Ejercicios
DTSTART:20210714T000000Z
DTEND:20210925T180000Z
GEO:00;0
LOCATION:Virtual
ORGANIZER;CN=:info@cedeso.co.cr
SEQUENCE:1
SUMMARY:Certificación Executive Coaching
TRANSP:OPAQUE
URL:https://cedeso.co.cr/eventos-anteriores/450-certificaci%C3%B3n-executiv
 e-coaching
END:VEVENT
END:VCALENDAR
