BEGIN:VCALENDAR
VERSION:2.0
PRODID:-//Cedeso//NONSGML kigkonsult.se iCalcreator 2.30.10//
CALSCALE:GREGORIAN
METHOD:PUBLISH
UID:e417bb27-6166-4cf0-85a1-19937610af87
X-WR-CALNAME:iCagenda
X-WR-CALDESC:Event Management Extension for Joomla!
X-WR-RELCALID:3E26604A-50F4-4449-8B3E-E4F4932D05B5
X-WR-TIMEZONE:America/Costa_Rica
BEGIN:VTIMEZONE
TZID:America/Costa_Rica
BEGIN:STANDARD
TZNAME:CST
DTSTART:20191019T060000
TZOFFSETFROM:+0000
TZOFFSETTO:-0600
END:STANDARD
END:VTIMEZONE
BEGIN:VEVENT
UID:c5a4819f-1d05-42cc-8aa2-ed8fa98f1aaa
DTSTAMP:20260419T232656Z
CATEGORIES:Mejores Prácticas Organizacionales
CLASS:PUBLIC
DESCRIPTION;ALTREP="CID:<FFFF__=0ABBE548DFE235B58f9e8a93d@coffeebean.com>":
 Taller:\nAccountability\n(Para personas y equipos que asumen las metas y s
 e hacen responsables de los resultados)\nObjetivo orientativo: las y los p
 articipantes podrán explicar y apreciar un conjunto integrado de nociones 
 y herramientas asociadas con el compromiso y la rendición de cuentas indiv
 idual y de equipo.\nContenidos:1. Claves de la accountability • Tres clave
 s: expectativas claras (“setting expectations”)\, claridad en la comunicac
 ión y adueñarse (“ownership”) de las metas. • Facultación\, orientación a 
 resultados y tenacidad guiada. • 10.20.70: guías de acción\, preguntas de 
 autocoaching y experiencias de aprendizaje para entrenar la confiabilidad.
 2. ¿Cómo nos ponemos la camiseta? • Proceso de definir expectativas (“sete
 o de expectativas”).  • Colaboración: perder el miedo al monitoreo y al ap
 oyo mutuo. • Toma de decisiones: facultación en entornos VICA/BANI. • Cinc
 o estrategias para fortalecer la mentalidad de accountability. 3. ¡Cambiar
  la mentalidad! • Lugar de control y fortalecimiento de la autoeficacia pa
 ra dejar atrás las mentalidades de “nada puedo hacer” y “eso no me toca”. 
 • Accountability para líderes: comportamientos de coherencia\, modelaje y 
 manejo de equipos.  • Principios de ejecución ágil. • Accountability en eq
 uipos remotos.\nFecha: 20\, 22\, 27 y 29 de julio del 2021.Horario: 8:30 a
 .m. a 10:30 a.m.Duración: 8 horas.Plataforma: Zoom.Inversión: ¢120.000 + 2
 % de IVA por participante.Incluye: Material didáctico y certificado de par
 ticipación en PDF.\nFacilitador: Dr. Enrique Margery- Doctor en Educación 
 y TEDx speaker.- Profesor de la Maestría en Psicología del Trabajo en la U
 niversidad de Costa Rica. Profesor invitado de la Universidad de Querétaro
  (UAQ\, México) y la Universidad UAGM (Puerto Rico).- Diseña capacitación 
 para desarrollo de soft skills basado en aprendizaje por la experiencia\, 
 GBL y “reto-aprendizaje”.- Coach especialista en ciencia de la colaboració
 n y manejo de top performers.- Diseña herramientas para medir el Sentido d
 e Urgencia\, el “termómetro de la colaboración” y la rentabilidad de la ca
 pacitación\, entre otros.- Autor de los libros “Complejidad y Competencias
 ”\, “Herramientas de Coaching”\, “El Viaje” (Editorial Norma\; uno de los 
 primeros libros de psicología positiva publicados) y 'Complejidad\, Transd
 isciplinariedad y Compentencias'\nTodas nuestras capacitaciones pueden ser
  impartidas en su organización\nInscripciones e Información al e-mail info
 @cedeso.co.crTel: (506) 2225-1007 · Fax: (506) 2253-2774Visite nuestra pág
 ina www.cedeso.co.crfacebook.com/cedesocostarica
DTSTART:20210720T143000Z
DTEND:20210729T163000Z
GEO:00;0
LOCATION:Virtual por Zoom.
ORGANIZER;CN=:info@cedeso.co.cr
SEQUENCE:1
SUMMARY:Accountability
TRANSP:OPAQUE
URL:https://cedeso.co.cr/eventos-anteriores/451-accountability
END:VEVENT
END:VCALENDAR
