BEGIN:VCALENDAR
VERSION:2.0
PRODID:-//Cedeso//NONSGML kigkonsult.se iCalcreator 2.30.10//
CALSCALE:GREGORIAN
METHOD:PUBLISH
UID:ea4df1c4-a522-4d24-9c97-46ac3c875e0b
X-WR-CALNAME:iCagenda
X-WR-CALDESC:Event Management Extension for Joomla!
X-WR-RELCALID:3E26604A-50F4-4449-8B3E-E4F4932D05B5
X-WR-TIMEZONE:America/Costa_Rica
BEGIN:VTIMEZONE
TZID:America/Costa_Rica
BEGIN:STANDARD
TZNAME:CST
DTSTART:20191026T060000
TZOFFSETFROM:+0000
TZOFFSETTO:-0600
END:STANDARD
END:VTIMEZONE
BEGIN:VEVENT
UID:552c28e3-8357-4358-9458-abe920a77063
DTSTAMP:20260419T234707Z
CATEGORIES:Mejores Prácticas Organizacionales
CLASS:PUBLIC
DESCRIPTION;ALTREP="CID:<FFFF__=0ABBE548DFE235B58f9e8a93d@coffeebean.com>":
 Taller:\nHabilidades esenciales para la vida laboral\nDirigido a personal 
 administrativo de todo nivel\nTemario:1. Comprendiendo el mundo del trabaj
 o. - Como leer y entender las prioridades de mi perfil del puesto.2. Las d
 inámicas de la vida. - Desarrollando resiliencia y mis habilidades natural
 es.3. Claves para llevarme bien con casi todos. - Incrementando la compren
 sión con la familia y los compañeros. - Cómo identificar a las personas tó
 xicas y su manejo.4. Cómo hacer que me alcance el tiempo para todo.\nFecha
 : 27 de julio del 2021.Horario: 8:30 a.m. a 12:00 a.m.Duración total: 3.5 
 horas.Plataforma: Zoom.Inversión: ¢45.000 + 2% de IVA por participante. In
 cluye: Material y certificado de participación en PDF.\nFacilitador: Lic. 
 Carlos Solera Umaña Licenciado en administración de negocios\, técnico en 
 seguros. Más de 30 años de experiencia en todos los subprocesos de Gestión
  de RRHH. Amplia experiencia en organizaciones de manufactura\, servicios\
 , cooperativas y ONG’s. Actual fundador y director de CEDESO.S.A.\nTodas n
 uestras capacitaciones pueden ser impartidas en su organización\nInscripci
 ones e Información al e-mail info@cedeso.co.crTel: (506) 2225-1007 / Fax: 
 (506) 2253-2774Visite nuestra página www.cedeso.co.crfacebook.com/cedesoco
 starica
DTSTART:20210727T143000Z
DTEND:20210727T180000Z
GEO:00;0
LOCATION:Virtual por Zoom.
ORGANIZER;CN=:info@cedeso.co.cr
SEQUENCE:1
SUMMARY:Habilidades esenciales para la vida laboral
TRANSP:OPAQUE
URL:https://cedeso.co.cr/eventos-anteriores/452-habilidades-esenciales-para
 -la-vida-laboral
END:VEVENT
END:VCALENDAR
